Workbook

Sheet Прил. 2 (приказ 1831-э) (ПНТЗ)
DD1: Приложение 2
DD2: к приказу Федеральной службы по тарифам
DD3: от 24 октября 2014 г. № 1831-э
A5: Форма раскрытия информации о структуре и объемах затрат
A6: на оказание услуг по передаче электрической энергии сетевыми
A7: организациями, регулирование деятельности которых осуществляется
A8: методом долгосрочной индексации необходимой валовой выручки
C10: Наименование организации: | AG10: АО "Энергосетевая компания ЧТПЗ" - филиал в г. Первоуральск
C11: ИНН: | J11: 7449045730
C12: КПП: | J12: 744901001
C13: Долгосрочный период регулирования: | AQ13: 2016 | AY13: - | BA13: 2016 | BI13: гг.
A15: № п/п | J15: Показатель | BI15: Ед. изм. | BT15: 2 полуг. 2016 | CN15: Примечание ***
BT16: план * | CD16: факт **
A17: I | K17: Структура затрат | BI17: х | BT17: х | CD17: х | CN17: х
A18: 1 | K18: Необходимая валовая выручка на содержание | BI18: тыс. руб. | BT18: =BT19+BT49 -> 10772.81 | CD18: =23659.33-2698.168+10.5 -> 20971.662 | CN18: В тарфном решении не были учтены потребности организации в полном объёме
A19: 1.1 | K19: Подконтрольные расходы, всего | BI19: тыс. руб. | BT19: =BT20+BT25 -> 4221.36 | CD19: =CD18-CD49 -> 13183.871
A20: 1.1.1 | K20: Материальные расходы, всего | BI20: тыс. руб. | BT20: =BT23 -> 997.515 | CD20: =CD21+CD22+CD23 -> 2308.5831
A21: 1.1.1.1 | K21: в том числе на сырье, материалы, запасные части, инструмент, топливо | BI21: тыс. руб. | CD21: =([1]ПНТЗ!E35-[1]ПНТЗ!E40-[1]ПНТЗ!E43)/1000 -> 849.9372
A22: 1.1.1.2 | K22: на ремонт | BI22: тыс. руб. | CD22: =[1]ПНТЗ!E40/1000 -> 7.80262
A23: 1.1.1.3 | K23: в том числе на работы и услуги производственного характера (в том числе услуги сторонних организаций по содержанию сетей и распределительных устройств) | BI23: тыс. руб. | BT23: =BT24 -> 997.515 | CD23: =([1]ПНТЗ!E24+[1]ПНТЗ!E59)/1000 -> 1450.8432 | CN23: Ремонтная программа была учтена в тарифном решеннии ниже необходимой
A24: 1.1.1.3.1 | K24: в том числе на ремонт | BI24: тыс. руб. | BT24: =1995.03/2 -> 997.515 | CD24: =CD23 -> 1450.8432
A25: 1.1.2 | K25: Фонд оплаты труда | BI25: тыс. руб. | BT25: =6447.69/2 -> 3223.845 | CD25: =([1]ПНТЗ!E26+[1]ПНТЗ!E13+[1]ПНТЗ!E68)/1000 -> 9931.5244 | CN25: Численность персонала была учтена в тарифном решении ниже фактического уровня
A26: 1.1.2.1 | K26: в том числе на ремонт | BI26: тыс. руб. | CD26: =[1]ПНТЗ!E13/1000 -> 4061.7427
A27: 1.1.3 | K27: Прочие подконтрольные расходы (с расшифровкой) | BI27: тыс. руб. | CD27: =CD19-CD20-CD25 -> 943.76347 | CN27: Прочие расходы не были учтены в тарифном решении
A28: 1.1.3.1 | K28: в том числе прибыль на социальное развитие (включая социальные выплаты) | BI28: тыс. руб. | CD28: 10.5
A29: 1.1.3.2 | K29: в том числе транспортные услуги | BI29: тыс. руб. | CD29: =([1]ПНТЗ!E56+[1]ПНТЗ!E100)/1000 -> 299.23519
A30: 1.1.3.3 | K30: в том числе командировочные | BI30: тыс. руб. | CD30: =([1]ПНТЗ!E72+[1]ПНТЗ!E30)/1000 -> 17.10265
A31: 1.1.3.4 | K31: в том числе членский взнос в СРО | BI31: тыс. руб.
A32: 1.1.3.5 | K32: в том числе услуги страхования (ДМС, ответственность) | BI32: тыс. руб. | CD32: =([1]ПНТЗ!E51+[1]ПНТЗ!E92)/1000 -> 78.39005
A33: 1.1.3.6 | K33: в том числе медецинские услуги | BI33: тыс. руб. | CD33: =([1]ПНТЗ!E95+[1]ПНТЗ!E94+[1]ПНТЗ!E54+[1]ПНТЗ!E53)/1000 -> 14.56057
A34: 1.1.3.7 | K34: в том числе услуги по обучению кадров | BI34: тыс. руб. | CD34: =([1]ПНТЗ!E101+[1]ПНТЗ!E57+[1]ПНТЗ!E58)/1000 -> 145.36387
A35: 1.1.3.8 | K35: в том числе лицензии | BI35: тыс. руб. | CD35: =([1]ПНТЗ!E96+[1]ПНТЗ!E97+[1]ПНТЗ!E98)/1000 -> 13.74916
A36: 1.1.3.9 | K36: в том числе нотариальные услуги | BI36: тыс. руб. | CD36: =[1]ПНТЗ!E107/1000 -> 0.08355
A37: 1.1.3.10 | K37: в том числе услуги ведения бухгалтерского учета | BI37: тыс. руб. | CD37: =([1]ПНТЗ!E91+[1]ПНТЗ!E102)/1000 -> 91.11098
A38: 1.1.3.11 | K38: в том числе услуги кредитных организаций | BI38: тыс. руб.
A39: 1.1.3.12 | K39: в том числе услуги связи | BI39: тыс. руб. | CD39: =([1]ПНТЗ!E108+[1]ПНТЗ!E62)/1000 -> 41.75238
A40: 1.1.3.13 | K40: в том числе текущий ремонт и содержание зданий | BI40: тыс. руб. | CD40: =([1]ПНТЗ!E63+[1]ПНТЗ!E61)/1000 -> 119.94536
A41: 1.1.3.14 | K41: в том числе энергоресуры | BI41: тыс. руб. | CD41: =[1]ПНТЗ!E84/1000 -> 0.35985
A42: 1.1.3.14 | K42: в том числе СОУТ | BI42: тыс. руб. | CD42: =[1]ПНТЗ!E60/1000 -> 27.4651
A43: 1.1.3.15 | K43: в том числе химчистка | BI43: тыс. руб. | CD43: =[1]ПНТЗ!E64/1000 -> 38.45871
...

Sheet Прил. 4 (приказ 1831-э)
BL1: Приложение 4
BL2: к приказу Федеральной службы по тарифам
BL3: от 24 октября 2014 г. № 1831-э
A5: Форма раскрытия информации о движении активов, включающий балансовую
A6: стоимость активов на начало года, балансовую стоимость активов на конец года,
A7: а также информацию о выбытии активов в течение года, о вводе активов в течение
A8: года, в том числе за счет переоценки, модернизации, реконструкции, строительства
A9: и приобретения нового оборудования
C11: Наименование
C12: организации | Q12: АО "ЭСК ЧТПЗ"
C13: ИНН:
C14: КПП:
A16: № п/п | H16: Показатель | BD16: Ед. изм. | BO16: Год | CI16: Примечание *
BO17: план | BY17: факт
A18: 1 | I18: Остаточная балансовая стоимость активов на начало года долгосрочного периода регулирования | BD18: тыс. руб. | BY18: =[1]аморт!E69/1000 -> 4014.1703
A19: 2 | I19: Ввод активов (основных средств), всего | BD19: тыс. руб. | BY19: =[1]аморт!F69/1000 -> 41221.703
BD20: МВА
BD21: км
A22: 2.1 | I22: Увеличение стоимости активов (основных средств) за счет переоценки | BD22: тыс. руб.
A23: 2.2 | I23: Ввод активов (основных средств) за год | BD23: тыс. руб.
BD24: МВА
BD25: км
A26: 2.2.1 | I26: в том числе модернизация и реконструкция | BD26: тыс. руб. | BY26: 0
BD27: МВА
BD28: км
A29: 2.2.2 | I29: в том числе новое строительство | BD29: тыс. руб. | BY29: 0
BD30: МВА
BD31: км
A32: 2.2.3 | I32: Прочее, в том числе приобретение нового оборудования | BD32: тыс. руб. | BY32: =[1]аморт!F69/1000 -> 41221.703
BD33: МВА
BD34: км
A35: 3 | I35: Выбытие активов (основных средств) | BD35: тыс. руб. | BY35: 0
BD36: МВА
BD37: км
A38: 4 | I38: Остаточная балансовая стоимость активов на конец года долгосрочного периода регулирования | BD38: тыс. руб. | BY38: =[1]аморт!M69/1000 -> 43394.993
A40: Примечание:
A42: _____*_При наличии отклонений фактических значений показателей от плановых значений более чем на 15 процентов в столбце <Примечание> указываются причины их возникновения.

Sheet 1.6. (приказ 585) (ПНТЗ)
EY1: Таблица 1.6
A3: Расшифровка расходов субъекта естественных монополий, оказывающего услуги по передаче электроэнергии (мощности) по электрическим сетям, принадлежащим на праве собственности
A4: или ином законном основании территориальным сетевым организациям
A6: Заполняется: | AN6: Субъектами естественных монополий, оказывающими услуги по передаче электроэнергии (мощности) по электрическим сетям, принадлежащим на праве собственности
AN7: или ином законном основании территориальным сетевым организациям
A8: Период заполнения: | AN8: Годовая
A9: Требования к заполнению: | AN9: Заполняется отдельно по каждому субъекту РФ
A11: Организация: | DN11: АО "Энергосетевая компания ЧТПЗ"
A12: Идентификационный номер налогоплательщика (ИНН): | DN12: 7449045730
A13: Местонахождение (адрес): | DN13: 454129, г.Челябинск, ул.Машиностроителей,21
A14: Субъект РФ: | DN14: Челябинская область
A15: Отчетный период: | DN15: 2016 год
A18: Показатель | AN18: Единица измерения | AV18: Код показа-теля | BB18: За отчетный период, всего по предприятию | BK18: из графы 4: по Субъекту РФ, указанному в заголовке формы | BT18: из графы 5 по видам деятельности * | CV18: За аналогичный период пре-дыдущего года, всего по предприятию | DE18: из графы 10: по Субъекту РФ, указанному в заголовке формы | DN18: из графы 10 по видам деятельности * | EP18: Примечания: принцип разделения показателей по субъектам РФ и по видам деятельности согласно ОРД предприятия
BT19: Передача по расп-редели-тельным сетям | CA19: Техноло-гическое присоеди-нение | CH19: Передача и техно-логичес-кое присоеди-нение | CO19: Прочие виды деятель-ности | DN19: Передача по расп-редели-тельным сетям | DU19: Техноло-гическое присоеди-нение | EB19: Передача и техно-логичес-кое присоеди-нение | EI19: Прочие виды деятель-ности
A20: 1 | AN20: 2 | AV20: 3 | BB20: 4 | BK20: 5 | BT20: 6 | CA20: 7 | CH20: 8 (сумма гр. 6 и 7) | CO20: 9 | CV20: 10 | DE20: 11 | DN20: 12 | DU20: 13 | EB20: 14 (сумма гр. 12 и 13) | EI20: 15 | EP20: 16
A21: Расходы, учитываемые в целях налогообложения прибыли, всего, в том числе (сумма строк 110, 120, 130, 140, 150, 160, 170, 180, 190) | AN21: тыс. руб. | AV21: 100 | BB21: =[1]всего!E8/1000 -> 445816.98 | BT21: =[1]ПНТЗ!E10/1000 -> 23659.33 | CA21: =CA22+CA30+CA35+CA43+CA44+CA45+CA48+CA49+CA50 -> 0 | CH21: =BT21+CA21 -> 23659.33 | CO21: =BB21-CH21 -> 422157.65 | CV21: =CV22+CV30+CV35+CV43+CV44+CV45+CV48+CV49+CV50 -> 369370.72 | DN21: =DN22+DN30+DN35+DN43+DN44+DN45+DN48+DN49+DN50 -> 38727.178 | DU21: =DU22+DU30+DU35+DU43+DU44+DU45+DU48+DU49+DU50 -> 0 | EB21: =DN21+DU21 -> 38727.178 | EI21: 330643.54
A22: Материальные расходы (сумма строк 111, 112, 113) | AN22: тыс. руб. | AV22: 110 | BB22: =BB23+BB24+BB29 -> 62922.267 | BK22: =BK23+BK24+BK29 -> 0 | BT22: =BT24+BT23+BT29 -> 3564.7059 | CH22: =BT22+CA22 -> 3564.7059 | CO22: =BB22-CH22 -> 59357.561 | CV22: =CV23+CV24+CV29 -> 39064.65 | DE22: =DE23+DE24+DE29 -> 0 | DN22: =DN24+DN23+DN29 -> 17116.05 | EB22: =DN22+DU22 -> 17116.05 | EI22: 21948.6
A23: Расходы на приобретение сырья и материалов | AN23: тыс. руб. | AV23: 111 | BB23: =([1]всего!E26+[1]всего!E27+[1]всего!E28+[1]всего!E29+[1]всего!E30+[1]всего!E86+[1]всего!E87+[1]всего!E88+[1]всего!E89+[1]всего!E90+[1]всего!E145+[1]всего!E146+[1]всего!E147+[1]всего!E149)/1000 -> 39668.279 | BT23: =([1]ПНТЗ!E36+[1]ПНТЗ!E37+[1]ПНТЗ!E38+[1]ПНТЗ!E39+[1]ПНТЗ!E40+[1]ПНТЗ!E41+[1]ПНТЗ!E42+[1]ПНТЗ!E43+[1]ПНТЗ!E44)/1000 -> 866.53789 | CH23: =BT23+CA23 -> 866.53789 | CO23: =BB23-CH23 -> 38801.741 | CV23: 34866.6 | DN23: =12918 -> 12918 | EB23: =DN23+DU23 -> 12918 | EI23: 21948.6
A24: Расходы на приобретение электрической энергии на компенсацию технологического расхода (потерь) электрической энергии в сетях, в том числе по уровням напряжения: | AN24: тыс. руб. | AV24: 112 | BB24: =BT25 -> 2698.168 | BT24: =BB24 -> 2698.168 | CH24: =BT24+CA24 -> 2698.168 | CO24: =BB24-CH24 -> 0 | CV24: 4198.05 | DN24: 4198.05 | EB24: =DN24+DU24 -> 4198.05 | EI24: 0
A25: ВН | AN25: тыс. руб. | BB25: =[1]всего!E37/1000 -> 7380.1154 | BT25: =[1]ПНТЗ!E18/1000 -> 2698.168 | CH25: =BT25+CA25 -> 2698.168 | CO25: =BB25-CH25 -> 4681.9474 | CV25: =CV24 -> 4198.05 | DN25: 4198.05 | EB25: =DN25+DU25 -> 4198.05 | EI25: 0
A26: СН1 | AN26: тыс. руб. | CH26: =BT26+CA26 -> 0 | CO26: =BB26-CH26 -> 0 | EB26: =DN26+DU26 -> 0 | EI26: 0
A27: СН2 | AN27: тыс. руб. | CH27: =BT27+CA27 -> 0 | CO27: =BB27-CH27 -> 0 | EB27: =DN27+DU27 -> 0 | EI27: 0
A28: НН | AN28: тыс. руб. | CH28: =BT28+CA28 -> 0 | CO28: =BB28-CH28 -> 0 | EB28: =DN28+DU28 -> 0 | EI28: 0
A29: Расходы на приобретение электрической энергии на хозяйственные нужды | AN29: тыс. руб. | AV29: 113 | BB29: =([1]всего!E38+[1]всего!E39+[1]всего!E97+[1]всего!E98+[1]всего!E150)/1000 -> 20555.82 | BT29: 0 | CH29: =BT29+CA29 -> 0 | CO29: =BB29-CH29 -> 20555.82 | EB29: =DN29+DU29 -> 0 | EI29: 0
A30: Расходы на оплату услуг сторонних организаций (сумма строк 121, 122, 123, 124) | AN30: тыс. руб. | AV30: 120 | BB30: =BB31+BB32+BB33+BB34 -> 30927.675 | BT30: =BT31+BT32+BT33+BT34 -> 1573.5634 | CH30: =BT30 -> 1573.5634 | CO30: =BB30-CH30 -> 29354.112 | CV30: =CV31+CV32+CV33+CV34 -> 32290.29 | DN30: =DN31+DN32+DN33+DN34 -> 662.27 | EB30: =DN30 -> 662.27 | EI30: 31628.02
A31: Расходы на страхование | AN31: тыс. руб. | AV31: 121 | BB31: =([1]всего!E53+[1]всего!E112+[1]всего!E113+[1]всего!E107+[1]всего!E158)/1000 -> 1918.0189 | BT31: =([1]ПНТЗ!E51+[1]ПНТЗ!E92)/1000 -> 78.39005 | CH31: =BT31 -> 78.39005 | CO31: =BB31-CH31 -> 1839.6288 | CV31: 1380.7 | DN31: 150.04 | EB31: =DN31 -> 150.04 | EI31: 1230.66
A32: Оплата услуг ОАО "ФСК ЕЭС" | AN32: тыс. руб. | AV32: 122 | CH32: =BT32+CA32 -> 0 | CO32: =BB32-CH32 -> 0 | EB32: =DN32+DU32 -> 0 | EI32: 0
A33: Оплата услуг по передаче электрической энергии, оказываемых другими сетевыми организациями | AN33: тыс. руб. | AV33: 123 | CH33: =BT33+CA33 -> 0 | CO33: =BB33-CH33 -> 0 | EB33: =DN33+DU33 -> 0 | EI33: 0
A34: Расходы на ремонт основных средств, выполняемые подрядным способом | AN34: тыс. руб. | AV34: 124 | BB34: =([1]всего!E50+[1]всего!E54+[1]всего!E55+[1]всего!E57+[1]всего!E58+[1]всего!E59+[1]всего!E60+[1]всего!E61+[1]всего!E62+[1]всего!E63+[1]всего!E121+[1]всего!E122+[1]всего!E124+[1]всего!E125+[1]всего!E128+[1]всего!E118)/1000 -> 29009.656 | BT34: =([1]ПНТЗ!E24+[1]ПНТЗ!E59+[1]ПНТЗ!E63)/1000 -> 1495.1734 | CH34: =BT34 -> 1495.1734 | CO34: =BB34-CH34 -> 27514.483 | CV34: 30909.59 | DN34: 512.23 | EB34: =DN34 -> 512.23 | EI34: 30397.36
A35: Расходы на оплату труда | AN35: тыс. руб. | AV35: 130 | BB35: =BB36+BB37+BB38 -> 146152.44 | BT35: =BT36+BT37+BT38 -> 9931.5244 | CH35: =BT35 -> 9931.5244 | CO35: =BB35-CH35 -> 136220.92 | CV35: 104838.36 | DN35: 8245.07 | EB35: =DN35 -> 8245.07 | EI35: 96593.29
A36: Управленческий персонал | AN36: тыс. руб. | BB36: =[1]всего!E133/1000 -> 12738.487 | BT36: =[1]ПНТЗ!E68/1000 -> 712.26534 | CH36: =BT36 -> 712.26534 | CO36: =BB36-CH36 -> 12026.222 | CV36: 9964.81 | DN36: =DN35-DN37-DN38 -> 1043.41 | EB36: =DN36 -> 1043.41 | EI36: 8921.4
A37: Специалисты и технические | AN37: тыс. руб. | BB37: =[1]всего!E70/1000 -> 62186.324 | BT37: =[1]ПНТЗ!E26/1000 -> 5157.5163 | CH37: =BT37 -> 5157.5163 | CO37: =BB37-CH37 -> 57028.808 | CV37: =CV35-CV36-CV38 -> 43089.6 | DN37: 1903.83 | EB37: =DN37 -> 1903.83 | EI37: 41185.77
A38: Основные производственные рабочие | AN38: тыс. руб. | BB38: =[1]всего!E14/1000 -> 71227.632 | BT38: =[1]ПНТЗ!E13/1000 -> 4061.7427 | CH38: =BT38 -> 4061.7427 | CO38: =BB38-CH38 -> 67165.889 | CV38: 51783.95 | DN38: 5297.83 | EB38: =DN38 -> 5297.83 | EI38: 46486.12
A39: Справочно: среднесписочная численность промышленно-производственного персонала организации ** | AN39: чел. | CH39: =BT39+CA39 -> 0 | CO39: =BB39-CH39 -> 0 | EB39: =DN39+DU39 -> 0 | EI39: 0
A40: Управленческий персонал | AN40: чел. | CH40: =BT40+CA40 -> 0 | CO40: =BB40-CH40 -> 0 | EB40: =DN40+DU40 -> 0 | EI40: 0
A41: Специалисты и технические | AN41: чел. | CH41: =BT41+CA41 -> 0 | CO41: =BB41-CH41 -> 0 | EB41: =DN41+DU41 -> 0 | EI41: 0
A42: Основные производственные рабочие | AN42: чел. | CH42: =BT42+CA42 -> 0 | CO42: =BB42-CH42 -> 0 | EB42: =DN42+DU42 -> 0 | EI42: 0
A43: Расходы на выплату страховых взносов в Пенсионный фонд Российской Федерации, Фонд социального страхования Российской Федерации, Федеральный фонд обязательного медицинского страхования и территориальные фонды обязательного медицинского страхования | AN43: тыс. руб. | AV43: 140 | BB43: =([1]всего!E40+[1]всего!E100+[1]всего!E102+[1]всего!E152+[1]всего!E154)/1000 -> 38182.89 | BT43: =([1]ПНТЗ!E19+[1]ПНТЗ!E86+[1]ПНТЗ!E88+[1]ПНТЗ!E45)/1000 -> 2366.6633 | CH43: =BT43+CA43 -> 2366.6633 | CO43: =BB43-CH43 -> 35816.226 | CV43: 27715.52 | DN43: 2146.56 | EB43: =DN43+DU43 -> 2146.56 | EI43: 25568.96
A44: Амортизация основных средств | AN44: тыс. руб. | AV44: 150 | BB44: =([1]всего!E11+[1]всего!E68+[1]всего!E131)/1000 -> 1837.6373 | BT44: =[1]ПНТЗ!E67/1000 -> 3.73326 | CH44: =BT44+CA44 -> 3.73326 | CO44: =BB44-CH44 -> 1833.9041 | CV44: 174.4 | DN44: 174.4 | EB44: =DN44+DU44 -> 174.4 | EI44: 0
A45: Аренда и лизинговые платежи (сумма строк 161, 162) | AN45: тыс. руб. | AV45: 160 | BB45: =BB46 -> 93474.491 | BT45: =BT46 -> 5405.4775 | CH45: =BT45+CA45 -> 5405.4775 | CO45: =BB45-CH45 -> 88069.014 | CV45: =CV46 -> 98419.06 | DN45: =DN46 -> 7692.56 | EB45: =DN45+DU45 -> 7692.56 | EI45: 90726.5
...
