Workbook
Name activity: 'Перечень тарифов'!$F$20:$F$26
Name add_CS_List05_1: 'Форма 1.0.1 | Т-ТЭ | >=25МВт'!$G$17
Name add_CS_List05_10: 'Форма 1.0.1 | Т-подкл'!$G$17
Name add_CS_List05_13: 'Форма 1.0.1 | Т-ТЭ | потр'!$G$17
Name add_CS_List05_2: 'Форма 1.0.1 | Т-ТЭ | ТСО'!$G$17
Name add_CS_List05_3: 'Форма 1.0.1 | Т-ТЭ | предел'!$G$17
Name add_CS_List05_3_i: 'Форма 1.0.1 | Т-ТЭ | индикат'!$G$17
Name add_CS_List05_4: 'Форма 1.0.1 | Т-ТН'!$G$17
Name add_CS_List05_5: 'Форма 1.0.1 | Т-гор.вода'!$G$17
Name add_CS_List05_7: 'Форма 1.0.1 | Т-передача ТН'!$G$17
Name add_CS_List05_8: 'Форма 1.0.1 | Резерв мощности'!$G$17
Name add_CS_List05_9: 'Форма 1.0.1 | Т-подкл(инд)'!$G$17
Name add_CT_1: 'Форма 4.10.2 | Т-ТЭ | >=25МВт'!$M$30
Name add_CT_10: 'Форма 4.10.5 | Т-подкл'!$M$29
Name add_CT_13: 'Форма 4.10.2 | Т-ТЭ | потр'!$M$30
Name add_CT_2: 'Форма 4.10.2 | Т-ТЭ | ТСО'!$M$30
Name add_CT_3: 'Форма 4.10.2 | Т-ТЭ | предел'!$M$32
Name add_CT_3_i: 'Форма 4.10.2 | Т-ТЭ | индикат'!$M$32
Name add_CT_4: 'Форма 4.10.3 | Т-ТН'!$M$30
Name add_CT_5: 'Форма 4.10.4 | Т-гор.вода'!$M$32
Name add_CT_7: 'Форма 4.10.3 | Т-передача ТН'!$M$30
Name add_CT_8: 'Форма 4.10.2 | Резерв мощности'!$M$30
Name add_CT_9: 'Форма 4.10.6 | Т-подкл(инд)'!$M$27
Name add_MO_1: 'Форма 4.10.2 | Т-ТЭ | >=25МВт'!$M$31
Name add_MO_10: 'Форма 4.10.5 | Т-подкл'!$M$30
Name add_MO_13: 'Форма 4.10.2 | Т-ТЭ | потр'!$M$31
Name add_MO_2: 'Форма 4.10.2 | Т-ТЭ | ТСО'!$M$31
Name add_MO_3: 'Форма 4.10.2 | Т-ТЭ | предел'!$M$33
Name add_MO_3_i: 'Форма 4.10.2 | Т-ТЭ | индикат'!$M$33
Name add_MO_4: 'Форма 4.10.3 | Т-ТН'!$M$31
Name add_MO_5: 'Форма 4.10.4 | Т-гор.вода'!$M$33
Name add_MO_7: 'Форма 4.10.3 | Т-передача ТН'!$M$31
Name add_MO_8: 'Форма 4.10.2 | Резерв мощности'!$M$31
Name add_MO_9: 'Форма 4.10.6 | Т-подкл(инд)'!$M$28
Name add_MO_List05_1: 'Форма 1.0.1 | Т-ТЭ | >=25МВт'!$G$14
Name add_MO_List05_10: 'Форма 1.0.1 | Т-подкл'!$G$14
Name add_MO_List05_13: 'Форма 1.0.1 | Т-ТЭ | потр'!$G$14
Name add_MO_List05_2: 'Форма 1.0.1 | Т-ТЭ | ТСО'!$G$14
Name add_MO_List05_3: 'Форма 1.0.1 | Т-ТЭ | предел'!$G$14
Name add_MO_List05_3_i: 'Форма 1.0.1 | Т-ТЭ | индикат'!$G$14
Name add_MO_List05_4: 'Форма 1.0.1 | Т-ТН'!$G$14
Name add_MO_List05_5: 'Форма 1.0.1 | Т-гор.вода'!$G$14
Name add_MO_List05_7: 'Форма 1.0.1 | Т-передача ТН'!$G$14
Name add_MO_List05_8: 'Форма 1.0.1 | Резерв мощности'!$G$14
Name add_MO_List05_9: 'Форма 1.0.1 | Т-подкл(инд)'!$G$14
Name add_MR_List05_1: 'Форма 1.0.1 | Т-ТЭ | >=25МВт'!$G$15
Name add_MR_List05_10: 'Форма 1.0.1 | Т-подкл'!$G$15
Name add_MR_List05_13: 'Форма 1.0.1 | Т-ТЭ | потр'!$G$15
Name add_MR_List05_2: 'Форма 1.0.1 | Т-ТЭ | ТСО'!$G$15
Name add_MR_List05_3: 'Форма 1.0.1 | Т-ТЭ | предел'!$G$15
Name add_MR_List05_3_i: 'Форма 1.0.1 | Т-ТЭ | индикат'!$G$15
Name add_MR_List05_4: 'Форма 1.0.1 | Т-ТН'!$G$15
Name add_MR_List05_5: 'Форма 1.0.1 | Т-гор.вода'!$G$15
Name add_MR_List05_7: 'Форма 1.0.1 | Т-передача ТН'!$G$15
Name add_MR_List05_8: 'Форма 1.0.1 | Резерв мощности'!$G$15
Name add_MR_List05_9: 'Форма 1.0.1 | Т-подкл(инд)'!$G$15
Name add_POST_5: 'Форма 4.10.4 | Т-гор.вода'!$M$27
Name add_Rate_1: 'Форма 4.10.2 | Т-ТЭ | >=25МВт'!$M$32
Name add_Rate_10: 'Форма 4.10.5 | Т-подкл'!$M$31
Name add_Rate_13: 'Форма 4.10.2 | Т-ТЭ | потр'!$M$32

Sheet modList00

Sheet Инструкция
AA1: (требуется обновление)
B2: ="Код отчёта: " & GetCode() -> Код отчёта: FAS.JKH.OPEN.INFO.REQUEST.WARM
B3: ="Версия " & GetVersion() -> Версия 1.0.2
B5: Предложение регулируемой организации об установлении тарифов в сфере теплоснабжения (цены и тарифы), информация о способах приобретения, стоимости и объемах товаров, необходимых для производства регулируемых товаров и (или) оказания регулируемых услуг
E7: • На рабочем месте должен быть установлен MS Office 2007 SP3, 2010, 2013, 2016 с полной версией MS Excel • Макросы во время работы должны быть включены (!) • Для корректной работы отчёта требуется выбрать низкий уровень безопасности (В меню MS Excel 2007/2010/2013/2016: Параметры Excel | Центр управления безопасностью | Параметры центра управления безопасностью | Параметры макросов | Включить все макросы | ОК) • Если Вы работаете в табличном процессоре MS Excel 2007 и выше, то можете использовать для работы формат XLSB (Двоичная книга Excel). При работе в формате XLSB заметно быстрее происходит сохранение файла, а также уменьшается размер по сравнению с форматами XLS и XLSM • Не рекомендуется снимать защиту с листов и каким-либо образом модифицировать защищаемые формулы и расчётные поля, в противном случае, отчёт будет отклонён системой • При сохранении не следует выбирать формат XLSX (Книга Excel), так как в указанном формате макросы, необходимые для работы отчёта, безвозвратно удаляются
E21: A | F21: - необязательные для заполнения | O21: A | P21: - с формулами и константами
E22: A | F22: - обязательные для заполнения | O22: A | P22: - с выбором значений по двойному клику
E35: Если в предложенном Вам списке необходимая организация, МР/МО отсутствуют, обновите реестры с помощью кнопок В результате синхронизации с базой данных список организаций (МР/МО) будет заменён актуальным (механизм синхронизации требует подключения к сети Интернет и основан на использовании протокола HTTPS (TCP порт 443)) Если после обновления Вам не удалось найти необходимую организацию в списке, обратитесь к ответственному за поддержание реестра Вашего региона.
E46: • При сохранении шаблона осуществляется проверка корректности данных, в том числе на наличие значений в ячейках, обязательных для заполнения • Если какая-то ячейка не удовлетворяет условию проверки, на лист «Проверка» добавляется гиперссылка на данную ячейку и указывается причина ошибки • В колонке «Статус» для каждого сообщения возможны 2 значения: ошибка и предупреждение • При наличии сообщений со статусом «Ошибка» шаблон будет отклонён системой и не будет загружен в хранилище данных, сообщения со статусом «Предупреждение» носят информационный характер, и такой шаблон будет принят системой
E58: Обратиться за помощью в службу технической поддержки
E70: Инструкция по загрузке сопроводительных материалов
E71: Инструкция по работе с отчетной формой
E81: Обратиться за помощью в службу технической поддержки
E98: При наличии подключения к Интернет, можно автоматически проверять наличие доступных обновлений. Выберите способ оповещения о наличии обновлений для отчёта:
F100: проверять доступные обновления (рекомендуется) | AA100: y
F102: никогда не проверять наличие обновлений (не рекомендуется)

Sheet Лог обновления
A1: Дата/Время | B1: Сообщение | C1: Статус
A2: 44692.357 | B2: Проверка доступных обновлений... | C2: Информация
A3: 44692.357 | B3: Доступно обновление до версии 1.0.2 | C3: Информация
A4: 44692.357 | B4: Описание изменений: Версия 1.0.2 1. Корректировка значения группы потребителей "население" на "население и приравненные категории" Версия 1.0.1 1. Корректировка наименования п.5 листа 'Форма 4.10.1'. | C4: Информация
A5: 44692.357 | B5: Размер файла обновления: 282112 байт | C5: Информация
A6: 44692.357 | B6: Подготовка к обновлению... | C6: Информация
A7: 44692.357 | B7: Сохранение файла резервной копии: C:\Users\nikita.novoselov\Desktop\1.BKP.xlsb | C7: Информация
A8: 44692.357 | B8: Резервная копия создана: C:\Users\nikita.novoselov\Desktop\1.BKP.xlsb | C8: Информация
A9: 44692.357 | B9: Создание книги для установки обновлений... | C9: Информация
A10: 44692.357 | B10: Файл обновления загружен: C:\Users\nikita.novoselov\Desktop\UPDATE.FAS.JKH.OPEN.INFO.REQUEST.WARM.TO.1.0.2.11.xls | C10: Информация
A11: 44692.357 | B11: Обновление завершилось удачно! Шаблон FAS.JKH.OPEN.INFO.REQUEST.WARM(v1.0).xlsb сохранен под именем 'FAS.JKH.OPEN.INFO.REQUEST.WARM(v1.0.2).xlsb' | C11: Информация
A12: 44692.36 | B12: Проверка доступных обновлений... | C12: Информация
A13: 44692.36 | B13: Нет доступных обновлений для отчёта с кодом FAS.JKH.OPEN.INFO.REQUEST.WARM! | C13: Информация
... A19: 44694.377 | B19: Нет доступных обновлений для отчёта с кодом FAS.JKH.OPEN.INFO.REQUEST.WARM! | C19: Информация

Sheet Титульный
F1: 26842389
E2: ="Код шаблона: " & GetCode() -> Код шаблона: FAS.JKH.OPEN.INFO.REQUEST.WARM
E3: ="Версия " & GetVersion() -> Версия 1.0.2
E5: Предложение регулируемой организации об установлении тарифов в сфере теплоснабжения (цены и тарифы), информация о способах приобретения, стоимости и объемах товаров, необходимых для производства регулируемых товаров и (или) оказания регулируемых услуг*
E7: Субъект РФ | F7: Челябинская область
E9: Отсутствует Интернет в границах территории МО, где организация осуществляет регулируемые виды деятельности | F9: нет
E11: Начало периода регулирования | F11: 01.01.2019
E12: Окончание периода регулирования | F12: 31.12.2023
E14: Тип отчета | F14: первичное раскрытие информации
E15: Дата внесения изменений в информацию, подлежащую раскрытию | F15: 11.05.2022
E16: Дата периода регулирования, с которой вводятся изменения в тарифы
F17: Первичное предложение по тарифам
E19: Дата подачи заявления об утверждении тарифов | F19: 25.04.2022
E20: Номер подачи заявления об утверждении тарифов | F20: 031/СН/2022
F22: Изменение тарифов
E24: Дата подачи заявления об изменении тарифов
E25: Номер заявления об изменении тарифов
E28: Является ли данное юридическое лицо подразделением (филиалом) другой организации | F28: нет
E29: Наименование организации | F29: АО "ЭСК ЧТПЗ"
E30: Наименование филиала
E31: ИНН | F31: 7449045730
E32: КПП | F32: 744901001
E34: Тип теплоснабжающей организации | F34: Теплосетевая организация в ценовой зоне теплоснабжения
E36: Режим налогообложения | F36: общий
E40: Почтовый адрес регулируемой организации | F40: 454129, г.Челябинск, ул. Машиностроителей, 21
E41: Фамилия, имя, отчество руководителя | F41: Аминев Альфред Курмангалеевич
F42: Ответственный за заполнение формы
E43: Фамилия, имя, отчество | F43: Новоселов Никита Андреевич
E44: Должность | F44: Начальник службы
E45: Контактный телефон | F45: (351) 259-03-76
E46: E-mail | F46: nikita.novoselov@chelpipegroup.com
D48: * | E48: Информация о способах приобретения, стоимости и объемах товаров, необходимых для производства регулируемых товаров и (или) оказания регулируемых услуг регулируемых организаций, публикуется по форме 4.2 едиными теплоснабжающими организациями, теплоснабжающими организациями и теплосетевыми организациями в ценовых зонах теплоснабжения позднее 30 календарных дней со дня направления годового бухгалтерского баланса в налоговые органы с учетом положений пункта 30 постановления Правительства №570 от 5 июля 2013 г.

Sheet Территории
K1: МО | L1: ОКТМО | M1: МР
D4: Перечень муниципальных районов и муниципальных образований (территорий действия тарифа)
F6: да
D8: Территория действия тарифа | F8: Муниципальный район | I8: Муниципальное образование
D9: № п/п | E9: Наименование | F9: № п/п | H9: Наименование | I9: № п/п | K9: Наименование | L9: ОКТМО
D10: 1 | E10: 2 | F10: 3 | H10: 4 | I10: 5 | K10: 6 | L10: 7
D11: 0 | M11: размерженный МР | P11: флаг используемости территории на листе Перечень тарифов | Q11: копия территорий | R11: МР (ОКТМО)
B12: auto | D12: 1 | E12: Город Челябинск, Город Челябинск (75701000); | G12: 0 | J12: 0 | M12: =mergeValue(H12) -> 0 | P12: =IF(ISERROR(MATCH(Q12,MODesc,0)),"n","y") -> n | Q12: Город Челябинск, Город Челябинск (75701000); | R12: =K12&"("&L12&")" -> ()
B13: auto | G13: 1 | H13: Город Челябинск | J13: 0 | M13: =mergeValue(H13) -> Город Челябинск | R13: =K13&"("&L13&")" -> ()
B14: auto | J14: 1 | K14: Город Челябинск | L14: 75701000 | M14: =mergeValue(H14) -> Город Челябинск | R14: =K14&" ("&L14&")" -> Город Челябинск (75701000)
B15: man | Q15: Добавить территорию действия тарифа

Sheet Перечень тарифов
D5: Перечень тарифов и технологически не связанных между собой систем теплоснабжения, в отношении которых предлагаются различные тарифы в сфере теплоснабжения и горячего водоснабжения с использованием открытых систем теплоснабжения (информация раскрывается отдельно по каждой системе теплоснабжения)
E11: Тариф на горячую воду предлагается с (!) разбивкой по поставщикам | G11: нет
E12: Тариф на горячую воду предлагается без (!) разбивки на компоненты | G12: нет
D17: № п/п | E17: Вид тарифа | F17: Вид деятельности | G17: Наличие двухставочного тарифа | H17: № п/п | J17: Наименование тарифа | K17: Дифференциация по МО (территориям) | O17: Дифференциация по централизованным системам теплоснабжения | S17: Дифференциация по источникам тепловой энергии | W17: Примечание
K18: да/нет | L18: № п/п | N18: Описание | O18: да/нет | P18: № п/п | R18: Описание | S18: да/нет | T18: № п/п | V18: Наименование
D19: 1 | E19: 2 | F19: 3 | G19: 4 | H19: 5 | J19: 6 | K19: 7 | L19: 8 | N19: 9 | O19: 10 | P19: 11 | R19: 12 | S19: 11 | T19: 12 | V19: 13 | W19: 14
D20: 0
A21: 6 | D21: 1 | E21: Тарифы на услуги по передаче тепловой энергии | F21: Передача. Тепловая энергия | G21: нет | I21: 1 | K21: нет | M21: 1 | O21: нет | Q21: 1 | S21: нет | U21: 1
E32: Информация о регулируемых ценах (тарифах) на товары (услуги) единой теплоснабжающей организации в ценовых зонах теплоснабжения включает сведения:
E33: - о предельном уровне цены на тепловую энергию (мощность), поставляемую потребителям, об индикативном предельном уровне цены на тепловую энергию (мощность) и о графике поэтапного равномерного доведения предельного уровня цены на тепловую энергию (мощность) (при наличии), определяемых в соответствии с Правилами определения в ценовых зонах теплоснабжения предельного уровня цены на тепловую энергию (мощность), включая правила индексации предельного уровня цены на тепловую энергию (мощность), утвержденными ПП РФ от 15 декабря 2017 г. № 1562 "Об определении в ценовых зонах теплоснабжения предельного уровня цены на тепловую энергию (мощность), включая индексацию предельного уровня цены на тепловую энергию (мощность), и технико-экономических параметров работы котельных и тепловых сетей, используемых для расчета предельного уровня цены на тепловую энергию (мощность)";
E34: - о тарифах на теплоноситель в виде воды, поставляемый единой теплоснабжающей организацией потребителям и теплоснабжающими организациями другим теплоснабжающим организациям с использованием открытых систем теплоснабжения (горячего водоснабжения), за исключением случая, предусмотренного пунктом 6 части 1 статьи 23.4 ФЗ "О теплоснабжении";
E35: - о тарифах на горячую воду, поставляемую единой теплоснабжающей организацией потребителям с использованием открытых систем теплоснабжения (горячего водоснабжения), установленных в виде формулы двухкомпонентного тарифа с использованием компонента на теплоноситель и компонента на тепловую энергию, в том числе о числовых значениях компонентов указанного тарифа;
E36: - о плате за подключение (технологическое присоединение) к системе теплоснабжения, применяемой в случае, установленном частью 9 статьи 23.4 ФЗ "О теплоснабжении".
E38: Информация о регулируемых ценах (тарифах) на товары (услуги) теплоснабжающей организации и теплосетевой организации в ценовых зонах теплоснабжения включает сведения:
E39: - о тарифах на теплоноситель в виде воды, поставляемый другим теплоснабжающим организациям с использованием открытых систем теплоснабжения (горячего водоснабжения), за исключением случая, предусмотренного пунктом 6 части 1 статьи 23.4 ФЗ "О теплоснабжении";
E40: - о тарифах на товары (услуги) в сфере теплоснабжения в случаях, указанных в частях 12.1 - 12.4 статьи 10 ФЗ "О теплоснабжении"

Sheet Форма 1.0.1 | Т-ТЭ | >=25МВт
A1: 1
F2: Форма 1.0.1 Основные параметры раскрываемой информации 1
F4: Параметры формы | I4: Описание параметров формы
F5: № п/п | G5: Наименование параметра | H5: Информация
F6: 1 | G6: 2 | H6: 3 | I6: 4 | J6: 4
F7: 1 | G7: Дата заполнения/внесения изменений | H7: =IF(dateCh="","",dateCh) -> 11.05.2022 | I7: Указывается календарная дата первичного заполнения или внесения изменений в форму в виде «ДД.ММ.ГГГГ».
A8: 1 | F8: ="2." &mergeValue(A8) -> 2.1 | G8: Наименование централизованной системы коммунальной инфраструктуры | I8: Указывается наименование централизованной системы холодного водоснабжения/горячего водоснабжения/водоотведения/теплоснабжения, к которой относится размещаемая информация. В случае наличия нескольких централизованных систем коммунальной инфраструктуры, информация по каждой из них указывается в отдельной строке.
F9: ="3." &mergeValue(A9) -> 3.1 | G9: Наименование регулируемого вида деятельности | I9: Указывается наименование вида регулируемой деятельности.
F10: ="4."&mergeValue(A10) -> 4.1 | G10: Территория оказания услуги по регулируемому виду деятельности | H10: x
B11: 1 | F11: ="4."&mergeValue(A11) &"."&mergeValue(B11) -> 4.1.1 | G11: Субъект Российской Федерации | H11: =IF(region_name="","",region_name) -> Челябинская область | I11: Указывается наименование субъекта Российской Федерации
C12: 1 | F12: ="4."&mergeValue(A12) &"."&mergeValue(B12)&"."&mergeValue(C12) -> 4.1.1.1 | G12: муниципальный район | I12: Указывается наименование муниципального района, на территории которого организация оказывает услуги по регулируемому виду деятельности.
D13: 1 | F13: ="4."&mergeValue(A13) &"."&mergeValue(B13)&"."&mergeValue(C13)&"."&mergeValue(D13) -> 4.1.1.1.1 | G13: муниципальное образование | I13: Указывается наименование и код муниципального района, муниципального образования в соответствии с Общероссийским классификатором территорий муниципальных образований (далее - ОКТМО), входящего в муниципальный район, на территории которого организация оказывает услуги по регулируемому виду деятельности. В случае оказания услуг по регулируемому виду деятельности на территории нескольких муниципальных районов (муниципальных образований) данные по каждому их них указываются в отдельной строке.
G14: Добавить МО
G15: Добавить МР
G16: Добавить территорию
G17: Добавить ЦС
G19: 1 Информация размещается при раскрытии информации по каждой из форм.

Sheet Форма 4.10.2 | Т-ТЭ | >=25МВт
L5: Форма 4.10.2 Информация о предложении величин тарифов на тепловую энергию, поддержанию резервной тепловой мощности1
M8: ="Дата подачи заявления об "&IF(datePr_ch="","утверждении","изменении") & " тарифов" -> Дата подачи заявления об утверждении тарифов | O8: =IF(datePr_ch="",IF(datePr="","",datePr),datePr_ch) -> 25.04.2022
M9: ="Номер подачи заявления об "&IF(numberPr_ch="","утверждении","изменении") & " тарифов" -> Номер подачи заявления об утверждении тарифов | O9: =IF(numberPr_ch="",IF(numberPr="","",numberPr),numberPr_ch) -> 031/СН/2022
U11: dp
L13: Параметры формы | W13: Описание параметров формы
L14: № п/п | M14: Параметр дифференциации тарифа | O14: Период действия тарифа | U14: Наличие других периодов действия тарифа | V14: Добавить период
O15: Одноставочный тариф, руб./Гкал | P15: Двухставочный тариф | R15: Период действия
P16: ставка за тепловую энергию, руб./Гкал | Q16: ставка за содержание тепловой мощности, тыс.руб./Гкал/ч/мес | R16: дата начала | S16: дата окончания
K17: 1 | L17: 1 | M17: 2 | N17: =OFFSET(N17,0,-1) -> 2 | O17: =OFFSET(O17,0,-1)+1 -> 3 | P17: =OFFSET(P17,0,-1)+1 -> 4 | Q17: =OFFSET(Q17,0,-1)+1 -> 5 | R17: =OFFSET(R17,0,-1)+1 -> 6 | S17: =OFFSET(S17,0,-1)+1 -> 7 | U17: =OFFSET(U17,0,-2)+1 -> 8 | V17: =OFFSET(V17,0,-1) -> 8 | W17: =OFFSET(W17,0,-1)+1 -> 9
A18: 1 | L18: =mergeValue(A18) -> 1 | M18: Наименование тарифа | W18: Указывается наименование тарифа в случае подачи предложения по нескольким тарифам. В случае наличия нескольких тарифов информация по ним указывается в отдельных строках. | Z18: =IF(M18="","",M18 ) -> Наименование тарифа
B19: 1 | L19: =mergeValue(A19) &"."& mergeValue(B19) -> 1.1 | M19: Территория действия тарифа | W19: Указывается наименование территории действия тарифа при наличии дифференциации тарифа по территориальному признаку. В случае дифференциации тарифов по территориальному признаку информация по ним указывается в отдельных строках. | Z19: =IF(M19="","",M19 ) -> Территория действия тарифа
C20: 1 | L20: =mergeValue(A20) &"."& mergeValue(B20)&"."& mergeValue(C20) -> 1.1.1 | M20: Наименование системы теплоснабжения | W20: Указывается наименование системы теплоснабжения при наличии дифференциации тарифа по системам теплоснабжения. В случае дифференциации тарифов по системам теплоснабжения информация по ним указывается в отдельных строках. | Z20: =IF(M20="","",M20 ) -> Наименование системы теплоснабжения
D21: 1 | L21: =mergeValue(A21) &"."& mergeValue(B21)&"."& mergeValue(C21)&"."& mergeValue(D21) -> 1.1.1.1 | M21: Источник тепловой энергии | W21: Указывается наименование источника тепловой энергии В случае дифференциации тарифов по источникам тепловой энергии информация по ним указывается в отдельных строках. | Z21: =IF(M21="","",M21 ) -> Источник тепловой энергии
E22: 1 | H22: 1 | I22: 1 | L22: =mergeValue(A22) &"."& mergeValue(B22)&"."& mergeValue(C22)&"."& mergeValue(D22)&"."& mergeValue(E22) -> 1.1.1.1.1 | M22: Схема подключения теплопотребляющей установки к коллектору источника тепловой энергии | W22: Указывается схема подключения теплопотребляющей установки к коллектору источника тепловой энергии только для тарифов на тепловую энергию и за услуги по поддержанию резервной мощности. Значение выбирается из перечня: Без дифференциации; к коллектору источника тепловой энергии; к тепловой сети без дополнительного преобразования на тепловых пунктах, эксплуатируемых теплоснабжающей организацией; к тепловой сети после тепловых пунктов (на тепловых пунктах), эксплуатируемых теплоснабжающей организацией. В случае дифференциации тарифов по схемам подключения теплопотребляющей установки к коллектору источника тепловой энергии информация по ним указывается в отдельных строках. | Z22: =IF(M22="","",M22 ) -> Схема подключения теплопотребляющей установки к коллектору источника тепловой энергии
F23: 1 | J23: 1 | L23: =mergeValue(A23) &"."& mergeValue(B23)&"."& mergeValue(C23)&"."& mergeValue(D23)&"."& mergeValue(E23)&"."& mergeValue(F23) -> 1.1.1.1.1.1 | M23: Группа потребителей | W23: Указывается группа потребителей при наличии дифференциации тарифа по группам потребителей. Значение выбирается из перечня: Организации-перепродавцы; Бюджетные организации; Население; Прочие; Без дифференциации. В случае дифференциации тарифов группам потребителей информация по ним указывается в отдельных строках. | Z23: =IF(M23="","",M23 ) -> Группа потребителей
G24: 1 | K24: 1 | L24: =mergeValue(A24) &"."& mergeValue(B24)&"."& mergeValue(C24)&"."& mergeValue(D24)&"."& mergeValue(E24)&"."& mergeValue(F24)&"."& mergeValue(G24) -> 1.1.1.1.1.1.1 | S24: да | U24: нет | W24: В колонке «Параметр дифференциации тарифов» указывается вид теплоносителя. Значение выбирается из перечня: вода; пар; отборный пар, 1.2-2.5 кг/см2; отборный пар, 2.5-7 кг/см2; отборный пар, 7-13 кг/см2; отборный пар, > 13 кг/см2; острый и редуцированный пар; горячая вода в системе централизованного теплоснабжения на отопление; горячая вода в системе централизованного теплоснабжения на горячее водоснабжение; прочее. При подаче предложения на двухставочный тариф колонка «Одноставочный тариф» не заполняется. При подаче предложения на одноставочный тариф колонки в блоке «Двухставочный тариф» не заполняются. Даты начала и окончания действия тарифов указываются в виде «ДД.ММ.ГГГГ». В случае отсутствия даты окончания действия тарифа в колонке «Дата окончания» указывается «Нет». Информация в колонке «Ставка за содержание тепловой мощности, тыс. руб./Гкал/ч/мес» указывается только для тарифа по поддержанию резервной мощности. В случае дифференциации тарифов по периодам действия тарифа информация по ним указывается в отдельных колонках. В случае дифференциации тарифов по видам теплоносителя информация по ним указывается в отдельных строках. | X24: =strCheckDate(O25:V25) | Z24: =IF(M24="","",M24 )
Q25: =R24 & "-" & T24 -> - | Z25: =IF(M25="","",M25 )
M26: Добавить вид теплоносителя (параметры теплоносителя) | Z26: =IF(M26="","",M26 ) -> Добавить вид теплоносителя (параметры теплоносителя)
M27: Добавить группу потребителей | Z27: =IF(M27="","",M27 ) -> Добавить группу потребителей
M28: Добавить схему подключения | Z28: =IF(M28="","",M28 ) -> Добавить схему подключения
M29: Добавить источник тепловой энергии | Z29: =IF(M29="","",M29 ) -> Добавить источник тепловой энергии
M30: Добавить наименование системы теплоснабжения | Z30: =IF(M30="","",M30 ) -> Добавить наименование системы теплоснабжения
M31: Добавить территорию действия тарифа | Z31: =IF(M31="","",M31 ) -> Добавить территорию действия тарифа
M32: Добавить наименование тарифа
L34: 1 | M34: Для каждого вида тарифа в сфере теплоснабжения форма заполняется отдельно. При размещении информации по данной форме дополнительно указывается дата подачи заявления об утверждении тарифа и его номер. По данной форме размещается в том числе информация о предложении об установлении цен (тарифов) в сфере теплоснабжения для единых теплоснабжающих организаций, а также теплоснабжающих организаций, теплосетевых организаций в ценовых зонах теплоснабжения.

Sheet Форма 1.0.1 | Т-ТЭ | ТСО
A1: 2
F2: Форма 1.0.1 Основные параметры раскрываемой информации 1
F4: Параметры формы | I4: Описание параметров формы
F5: № п/п | G5: Наименование параметра | H5: Информация
F6: 1 | G6: 2 | H6: 3 | I6: 4 | J6: 4
F7: 1 | G7: Дата заполнения/внесения изменений | H7: =IF(dateCh="","",dateCh) -> 11.05.2022 | I7: Указывается календарная дата первичного заполнения или внесения изменений в форму в виде «ДД.ММ.ГГГГ».
A8: 1 | F8: ="2." &mergeValue(A8) -> 2.1 | G8: Наименование централизованной системы коммунальной инфраструктуры | I8: Указывается наименование централизованной системы холодного водоснабжения/горячего водоснабжения/водоотведения/теплоснабжения, к которой относится размещаемая информация. В случае наличия нескольких централизованных систем коммунальной инфраструктуры, информация по каждой из них указывается в отдельной строке.
F9: ="3." &mergeValue(A9) -> 3.1 | G9: Наименование регулируемого вида деятельности | I9: Указывается наименование вида регулируемой деятельности.
F10: ="4."&mergeValue(A10) -> 4.1 | G10: Территория оказания услуги по регулируемому виду деятельности | H10: x
B11: 1 | F11: ="4."&mergeValue(A11) &"."&mergeValue(B11) -> 4.1.1 | G11: Субъект Российской Федерации | H11: =IF(region_name="","",region_name) -> Челябинская область | I11: Указывается наименование субъекта Российской Федерации
C12: 1 | F12: ="4."&mergeValue(A12) &"."&mergeValue(B12)&"."&mergeValue(C12) -> 4.1.1.1 | G12: муниципальный район | I12: Указывается наименование муниципального района, на территории которого организация оказывает услуги по регулируемому виду деятельности.
D13: 1 | F13: ="4."&mergeValue(A13) &"."&mergeValue(B13)&"."&mergeValue(C13)&"."&mergeValue(D13) -> 4.1.1.1.1 | G13: муниципальное образование | I13: Указывается наименование и код муниципального района, муниципального образования в соответствии с Общероссийским классификатором территорий муниципальных образований (далее - ОКТМО), входящего в муниципальный район, на территории которого организация оказывает услуги по регулируемому виду деятельности. В случае оказания услуг по регулируемому виду деятельности на территории нескольких муниципальных районов (муниципальных образований) данные по каждому их них указываются в отдельной строке.
G14: Добавить МО
G15: Добавить МР
G16: Добавить территорию
G17: Добавить ЦС
G19: 1 Информация размещается при раскрытии информации по каждой из форм.

Sheet Форма 4.10.2 | Т-ТЭ | ТСО
L5: Форма 4.10.2 Информация о предложении величин тарифов на тепловую энергию, поддержанию резервной тепловой мощности1
M8: ="Дата подачи заявления об "&IF(datePr_ch="","утверждении","изменении") & " тарифов" -> Дата подачи заявления об утверждении тарифов | O8: =IF(datePr_ch="",IF(datePr="","",datePr),datePr_ch) -> 25.04.2022
M9: ="Номер подачи заявления об "&IF(numberPr_ch="","утверждении","изменении") & " тарифов" -> Номер подачи заявления об утверждении тарифов | O9: =IF(numberPr_ch="",IF(numberPr="","",numberPr),numberPr_ch) -> 031/СН/2022
U11: dp
L13: Параметры формы | W13: Описание параметров формы
L14: № п/п | M14: Параметр дифференциации тарифа | O14: Период действия тарифа | U14: Наличие других периодов действия тарифа | V14: Добавить период
O15: Одноставочный тариф, руб./Гкал | P15: Двухставочный тариф | R15: Период действия
P16: ставка за тепловую энергию, руб./Гкал | Q16: ставка за содержание тепловой мощности, тыс.руб./Гкал/ч/мес | R16: дата начала | S16: дата окончания
K17: 1 | L17: 1 | M17: 2 | N17: =OFFSET(N17,0,-1) -> 2 | O17: =OFFSET(O17,0,-1)+1 -> 3 | P17: =OFFSET(P17,0,-1)+1 -> 4 | Q17: =OFFSET(Q17,0,-1)+1 -> 5 | R17: =OFFSET(R17,0,-1)+1 -> 6 | S17: =OFFSET(S17,0,-1)+1 -> 7 | U17: =OFFSET(U17,0,-2)+1 -> 8 | V17: =OFFSET(V17,0,-1) -> 8 | W17: =OFFSET(W17,0,-1)+1 -> 9
A18: 1 | L18: =mergeValue(A18) -> 1 | M18: Наименование тарифа | W18: Указывается наименование тарифа в случае подачи предложения по нескольким тарифам. В случае наличия нескольких тарифов информация по ним указывается в отдельных строках. | Z18: =IF(M18="","",M18 ) -> Наименование тарифа
B19: 1 | L19: =mergeValue(A19) &"."& mergeValue(B19) -> 1.1 | M19: Территория действия тарифа | W19: Указывается наименование территории действия тарифа при наличии дифференциации тарифа по территориальному признаку. В случае дифференциации тарифов по территориальному признаку информация по ним указывается в отдельных строках. | Z19: =IF(M19="","",M19 ) -> Территория действия тарифа
C20: 1 | L20: =mergeValue(A20) &"."& mergeValue(B20)&"."& mergeValue(C20) -> 1.1.1 | M20: Наименование системы теплоснабжения | W20: Указывается наименование системы теплоснабжения при наличии дифференциации тарифа по системам теплоснабжения. В случае дифференциации тарифов по системам теплоснабжения информация по ним указывается в отдельных строках. | Z20: =IF(M20="","",M20 ) -> Наименование системы теплоснабжения
D21: 1 | L21: =mergeValue(A21) &"."& mergeValue(B21)&"."& mergeValue(C21)&"."& mergeValue(D21) -> 1.1.1.1 | M21: Источник тепловой энергии | W21: Указывается наименование источника тепловой энергии В случае дифференциации тарифов по источникам тепловой энергии информация по ним указывается в отдельных строках. | Z21: =IF(M21="","",M21 ) -> Источник тепловой энергии
E22: 1 | H22: 1 | I22: 1 | L22: =mergeValue(A22) &"."& mergeValue(B22)&"."& mergeValue(C22)&"."& mergeValue(D22)&"."& mergeValue(E22) -> 1.1.1.1.1 | M22: Схема подключения теплопотребляющей установки к коллектору источника тепловой энергии | W22: Указывается схема подключения теплопотребляющей установки к коллектору источника тепловой энергии только для тарифов на тепловую энергию и за услуги по поддержанию резервной мощности. Значение выбирается из перечня: Без дифференциации; к коллектору источника тепловой энергии; к тепловой сети без дополнительного преобразования на тепловых пунктах, эксплуатируемых теплоснабжающей организацией; к тепловой сети после тепловых пунктов (на тепловых пунктах), эксплуатируемых теплоснабжающей организацией. В случае дифференциации тарифов по схемам подключения теплопотребляющей установки к коллектору источника тепловой энергии информация по ним указывается в отдельных строках. | Z22: =IF(M22="","",M22 ) -> Схема подключения теплопотребляющей установки к коллектору источника тепловой энергии
F23: 1 | J23: 1 | L23: =mergeValue(A23) &"."& mergeValue(B23)&"."& mergeValue(C23)&"."& mergeValue(D23)&"."& mergeValue(E23)&"."& mergeValue(F23) -> 1.1.1.1.1.1 | M23: Группа потребителей | W23: Указывается группа потребителей при наличии дифференциации тарифа по группам потребителей. Значение выбирается из перечня: Организации-перепродавцы; Бюджетные организации; Население; Прочие; Без дифференциации. В случае дифференциации тарифов группам потребителей информация по ним указывается в отдельных строках. | Z23: =IF(M23="","",M23 ) -> Группа потребителей
G24: 1 | K24: 1 | L24: =mergeValue(A24) &"."& mergeValue(B24)&"."& mergeValue(C24)&"."& mergeValue(D24)&"."& mergeValue(E24)&"."& mergeValue(F24)&"."& mergeValue(G24) -> 1.1.1.1.1.1.1 | S24: да | U24: нет | W24: В колонке «Параметр дифференциации тарифов» указывается вид теплоносителя. Значение выбирается из перечня: вода; пар; отборный пар, 1.2-2.5 кг/см2; отборный пар, 2.5-7 кг/см2; отборный пар, 7-13 кг/см2; отборный пар, > 13 кг/см2; острый и редуцированный пар; горячая вода в системе централизованного теплоснабжения на отопление; горячая вода в системе централизованного теплоснабжения на горячее водоснабжение; прочее. При подаче предложения на двухставочный тариф колонка «Одноставочный тариф» не заполняется. При подаче предложения на одноставочный тариф колонки в блоке «Двухставочный тариф» не заполняются. Даты начала и окончания действия тарифов указываются в виде «ДД.ММ.ГГГГ». В случае отсутствия даты окончания действия тарифа в колонке «Дата окончания» указывается «Нет». Информация в колонке «Ставка за содержание тепловой мощности, тыс. руб./Гкал/ч/мес» указывается только для тарифа по поддержанию резервной мощности. В случае дифференциации тарифов по периодам действия тарифа информация по ним указывается в отдельных колонках. В случае дифференциации тарифов по видам теплоносителя информация по ним указывается в отдельных строках. | X24: =strCheckDate(O25:V25) | Z24: =IF(M24="","",M24 )
Q25: =R24 & "-" & T24 -> - | Z25: =IF(M25="","",M25 )
M26: Добавить вид теплоносителя (параметры теплоносителя) | Z26: =IF(M26="","",M26 ) -> Добавить вид теплоносителя (параметры теплоносителя)
M27: Добавить группу потребителей | Z27: =IF(M27="","",M27 ) -> Добавить группу потребителей
M28: Добавить схему подключения | Z28: =IF(M28="","",M28 ) -> Добавить схему подключения
M29: Добавить источник тепловой энергии | Z29: =IF(M29="","",M29 ) -> Добавить источник тепловой энергии
M30: Добавить наименование системы теплоснабжения | Z30: =IF(M30="","",M30 ) -> Добавить наименование системы теплоснабжения
M31: Добавить территорию действия тарифа | Z31: =IF(M31="","",M31 ) -> Добавить территорию действия тарифа
M32: Добавить наименование тарифа
L34: 1 | M34: Для каждого вида тарифа в сфере теплоснабжения форма заполняется отдельно. При размещении информации по данной форме дополнительно указывается дата подачи заявления об утверждении тарифа и его номер. По данной форме размещается в том числе информация о предложении об установлении цен (тарифов) в сфере теплоснабжения для единых теплоснабжающих организаций, а также теплоснабжающих организаций, теплосетевых организаций в ценовых зонах теплоснабжения.

Sheet Форма 1.0.1 | Т-ТЭ | потр
A1: 2
F2: Форма 1.0.1 Основные параметры раскрываемой информации 1
F4: Параметры формы | I4: Описание параметров формы
F5: № п/п | G5: Наименование параметра | H5: Информация
F6: 1 | G6: 2 | H6: 3 | I6: 4 | J6: 4
F7: 1 | G7: Дата заполнения/внесения изменений | H7: =IF(dateCh="","",dateCh) -> 11.05.2022 | I7: Указывается календарная дата первичного заполнения или внесения изменений в форму в виде «ДД.ММ.ГГГГ».
A8: 1 | F8: ="2." &mergeValue(A8) -> 2.1 | G8: Наименование централизованной системы коммунальной инфраструктуры | I8: Указывается наименование централизованной системы холодного водоснабжения/горячего водоснабжения/водоотведения/теплоснабжения, к которой относится размещаемая информация. В случае наличия нескольких централизованных систем коммунальной инфраструктуры, информация по каждой из них указывается в отдельной строке.
F9: ="3." &mergeValue(A9) -> 3.1 | G9: Наименование регулируемого вида деятельности | I9: Указывается наименование вида регулируемой деятельности.
F10: ="4."&mergeValue(A10) -> 4.1 | G10: Территория оказания услуги по регулируемому виду деятельности | H10: x
B11: 1 | F11: ="4."&mergeValue(A11) &"."&mergeValue(B11) -> 4.1.1 | G11: Субъект Российской Федерации | H11: =IF(region_name="","",region_name) -> Челябинская область | I11: Указывается наименование субъекта Российской Федерации
C12: 1 | F12: ="4."&mergeValue(A12) &"."&mergeValue(B12)&"."&mergeValue(C12) -> 4.1.1.1 | G12: муниципальный район | I12: Указывается наименование муниципального района, на территории которого организация оказывает услуги по регулируемому виду деятельности.
D13: 1 | F13: ="4."&mergeValue(A13) &"."&mergeValue(B13)&"."&mergeValue(C13)&"."&mergeValue(D13) -> 4.1.1.1.1 | G13: муниципальное образование | I13: Указывается наименование и код муниципального района, муниципального образования в соответствии с Общероссийским классификатором территорий муниципальных образований (далее - ОКТМО), входящего в муниципальный район, на территории которого организация оказывает услуги по регулируемому виду деятельности. В случае оказания услуг по регулируемому виду деятельности на территории нескольких муниципальных районов (муниципальных образований) данные по каждому их них указываются в отдельной строке.
G14: Добавить МО
G15: Добавить МР
G16: Добавить территорию
G17: Добавить ЦС
G19: 1 Информация размещается при раскрытии информации по каждой из форм.

Sheet Форма 4.10.2 | Т-ТЭ | потр
L5: Форма 4.10.2 Информация о предложении величин тарифов на тепловую энергию, поддержанию резервной тепловой мощности1
M8: ="Дата подачи заявления об "&IF(datePr_ch="","утверждении","изменении") & " тарифов" -> Дата подачи заявления об утверждении тарифов | O8: =IF(datePr_ch="",IF(datePr="","",datePr),datePr_ch) -> 25.04.2022
M9: ="Номер подачи заявления об "&IF(numberPr_ch="","утверждении","изменении") & " тарифов" -> Номер подачи заявления об утверждении тарифов | O9: =IF(numberPr_ch="",IF(numberPr="","",numberPr),numberPr_ch) -> 031/СН/2022
U11: dp
L13: Параметры формы | W13: Описание параметров формы
L14: № п/п | M14: Параметр дифференциации тарифа | O14: Период действия тарифа | U14: Наличие других периодов действия тарифа | V14: Добавить период
O15: Одноставочный тариф, руб./Гкал | P15: Двухставочный тариф | R15: Период действия
P16: ставка за тепловую энергию, руб./Гкал | Q16: ставка за содержание тепловой мощности, тыс.руб./Гкал/ч/мес | R16: дата начала | S16: дата окончания
K17: 1 | L17: 1 | M17: 2 | N17: =OFFSET(N17,0,-1) -> 2 | O17: =OFFSET(O17,0,-1)+1 -> 3 | P17: =OFFSET(P17,0,-1)+1 -> 4 | Q17: =OFFSET(Q17,0,-1)+1 -> 5 | R17: =OFFSET(R17,0,-1)+1 -> 6 | S17: =OFFSET(S17,0,-1)+1 -> 7 | U17: =OFFSET(U17,0,-2)+1 -> 8 | V17: =OFFSET(V17,0,-1) -> 8 | W17: =OFFSET(W17,0,-1)+1 -> 9
A18: 1 | L18: =mergeValue(A18) -> 1 | M18: Наименование тарифа | W18: Указывается наименование тарифа в случае подачи предложения по нескольким тарифам. В случае наличия нескольких тарифов информация по ним указывается в отдельных строках. | Z18: =IF(M18="","",M18 ) -> Наименование тарифа
B19: 1 | L19: =mergeValue(A19) &"."& mergeValue(B19) -> 1.1 | M19: Территория действия тарифа | W19: Указывается наименование территории действия тарифа при наличии дифференциации тарифа по территориальному признаку. В случае дифференциации тарифов по территориальному признаку информация по ним указывается в отдельных строках. | Z19: =IF(M19="","",M19 ) -> Территория действия тарифа
C20: 1 | L20: =mergeValue(A20) &"."& mergeValue(B20)&"."& mergeValue(C20) -> 1.1.1 | M20: Наименование системы теплоснабжения | W20: Указывается наименование системы теплоснабжения при наличии дифференциации тарифа по системам теплоснабжения. В случае дифференциации тарифов по системам теплоснабжения информация по ним указывается в отдельных строках. | Z20: =IF(M20="","",M20 ) -> Наименование системы теплоснабжения
D21: 1 | L21: =mergeValue(A21) &"."& mergeValue(B21)&"."& mergeValue(C21)&"."& mergeValue(D21) -> 1.1.1.1 | M21: Источник тепловой энергии | W21: Указывается наименование источника тепловой энергии В случае дифференциации тарифов по источникам тепловой энергии информация по ним указывается в отдельных строках. | Z21: =IF(M21="","",M21 ) -> Источник тепловой энергии
E22: 1 | H22: 1 | I22: 1 | L22: =mergeValue(A22) &"."& mergeValue(B22)&"."& mergeValue(C22)&"."& mergeValue(D22)&"."& mergeValue(E22) -> 1.1.1.1.1 | M22: Схема подключения теплопотребляющей установки к коллектору источника тепловой энергии | W22: Указывается схема подключения теплопотребляющей установки к коллектору источника тепловой энергии только для тарифов на тепловую энергию и за услуги по поддержанию резервной мощности. Значение выбирается из перечня: Без дифференциации; к коллектору источника тепловой энергии; к тепловой сети без дополнительного преобразования на тепловых пунктах, эксплуатируемых теплоснабжающей организацией; к тепловой сети после тепловых пунктов (на тепловых пунктах), эксплуатируемых теплоснабжающей организацией. В случае дифференциации тарифов по схемам подключения теплопотребляющей установки к коллектору источника тепловой энергии информация по ним указывается в отдельных строках. | Z22: =IF(M22="","",M22 ) -> Схема подключения теплопотребляющей установки к коллектору источника тепловой энергии
F23: 1 | J23: 1 | L23: =mergeValue(A23) &"."& mergeValue(B23)&"."& mergeValue(C23)&"."& mergeValue(D23)&"."& mergeValue(E23)&"."& mergeValue(F23) -> 1.1.1.1.1.1 | M23: Группа потребителей | W23: Указывается группа потребителей при наличии дифференциации тарифа по группам потребителей. Значение выбирается из перечня: Организации-перепродавцы; Бюджетные организации; Население; Прочие; Без дифференциации. В случае дифференциации тарифов группам потребителей информация по ним указывается в отдельных строках. | Z23: =IF(M23="","",M23 ) -> Группа потребителей
G24: 1 | K24: 1 | L24: =mergeValue(A24) &"."& mergeValue(B24)&"."& mergeValue(C24)&"."& mergeValue(D24)&"."& mergeValue(E24)&"."& mergeValue(F24)&"."& mergeValue(G24) -> 1.1.1.1.1.1.1 | S24: да | U24: нет | W24: В колонке «Параметр дифференциации тарифов» указывается вид теплоносителя. Значение выбирается из перечня: вода; пар; отборный пар, 1.2-2.5 кг/см2; отборный пар, 2.5-7 кг/см2; отборный пар, 7-13 кг/см2; отборный пар, > 13 кг/см2; острый и редуцированный пар; горячая вода в системе централизованного теплоснабжения на отопление; горячая вода в системе централизованного теплоснабжения на горячее водоснабжение; прочее. При подаче предложения на двухставочный тариф колонка «Одноставочный тариф» не заполняется. При подаче предложения на одноставочный тариф колонки в блоке «Двухставочный тариф» не заполняются. Даты начала и окончания действия тарифов указываются в виде «ДД.ММ.ГГГГ». В случае отсутствия даты окончания действия тарифа в колонке «Дата окончания» указывается «Нет». Информация в колонке «Ставка за содержание тепловой мощности, тыс. руб./Гкал/ч/мес» указывается только для тарифа по поддержанию резервной мощности. В случае дифференциации тарифов по периодам действия тарифа информация по ним указывается в отдельных колонках. В случае дифференциации тарифов по видам теплоносителя информация по ним указывается в отдельных строках. | X24: =strCheckDate(O25:V25) | Z24: =IF(M24="","",M24 )
Q25: =R24 & "-" & T24 -> - | Z25: =IF(M25="","",M25 )
M26: Добавить вид теплоносителя (параметры теплоносителя) | Z26: =IF(M26="","",M26 ) -> Добавить вид теплоносителя (параметры теплоносителя)
M27: Добавить группу потребителей | Z27: =IF(M27="","",M27 ) -> Добавить группу потребителей
M28: Добавить схему подключения | Z28: =IF(M28="","",M28 ) -> Добавить схему подключения
M29: Добавить источник тепловой энергии | Z29: =IF(M29="","",M29 ) -> Добавить источник тепловой энергии
M30: Добавить наименование системы теплоснабжения | Z30: =IF(M30="","",M30 ) -> Добавить наименование системы теплоснабжения
M31: Добавить территорию действия тарифа | Z31: =IF(M31="","",M31 ) -> Добавить территорию действия тарифа
M32: Добавить наименование тарифа
L34: 1 | M34: Для каждого вида тарифа в сфере теплоснабжения форма заполняется отдельно. При размещении информации по данной форме дополнительно указывается дата подачи заявления об утверждении тарифа и его номер. По данной форме размещается в том числе информация о предложении об установлении цен (тарифов) в сфере теплоснабжения для единых теплоснабжающих организаций, а также теплоснабжающих организаций, теплосетевых организаций в ценовых зонах теплоснабжения.

Sheet Форма 1.0.1 | Т-ТЭ | предел
A1: 3
F2: Форма 1.0.1 Основные параметры раскрываемой информации 1
F4: Параметры формы | I4: Описание параметров формы
F5: № п/п | G5: Наименование параметра | H5: Информация
F6: 1 | G6: 2 | H6: 3 | I6: 4 | J6: 4
F7: 1 | G7: Дата заполнения/внесения изменений | H7: =IF(dateCh="","",dateCh) -> 11.05.2022 | I7: Указывается календарная дата первичного заполнения или внесения изменений в форму в виде «ДД.ММ.ГГГГ».
A8: 1 | F8: ="2." &mergeValue(A8) -> 2.1 | G8: Наименование централизованной системы коммунальной инфраструктуры | I8: Указывается наименование централизованной системы холодного водоснабжения/горячего водоснабжения/водоотведения/теплоснабжения, к которой относится размещаемая информация. В случае наличия нескольких централизованных систем коммунальной инфраструктуры, информация по каждой из них указывается в отдельной строке.
F9: ="3." &mergeValue(A9) -> 3.1 | G9: Наименование регулируемого вида деятельности | I9: Указывается наименование вида регулируемой деятельности.
F10: ="4."&mergeValue(A10) -> 4.1 | G10: Территория оказания услуги по регулируемому виду деятельности | H10: x
B11: 1 | F11: ="4."&mergeValue(A11) &"."&mergeValue(B11) -> 4.1.1 | G11: Субъект Российской Федерации | H11: =IF(region_name="","",region_name) -> Челябинская область | I11: Указывается наименование субъекта Российской Федерации
C12: 1 | F12: ="4."&mergeValue(A12) &"."&mergeValue(B12)&"."&mergeValue(C12) -> 4.1.1.1 | G12: муниципальный район | I12: Указывается наименование муниципального района, на территории которого организация оказывает услуги по регулируемому виду деятельности.
D13: 1 | F13: ="4."&mergeValue(A13) &"."&mergeValue(B13)&"."&mergeValue(C13)&"."&mergeValue(D13) -> 4.1.1.1.1 | G13: муниципальное образование | I13: Указывается наименование и код муниципального района, муниципального образования в соответствии с Общероссийским классификатором территорий муниципальных образований (далее - ОКТМО), входящего в муниципальный район, на территории которого организация оказывает услуги по регулируемому виду деятельности. В случае оказания услуг по регулируемому виду деятельности на территории нескольких муниципальных районов (муниципальных образований) данные по каждому их них указываются в отдельной строке.
G14: Добавить МО
G15: Добавить МР
G16: Добавить территорию
G17: Добавить ЦС
G19: 1 Информация размещается при раскрытии информации по каждой из форм.

Sheet Форма 4.10.2 | Т-ТЭ | предел
L5: Форма 4.10.2 Информация о предложении величин тарифов на тепловую энергию, поддержанию резервной тепловой мощности1
M10: ="Дата подачи заявления об "&IF(datePr_ch="","утверждении","изменении") & " тарифов" -> Дата подачи заявления об утверждении тарифов | O10: =IF(datePr_ch="",IF(datePr="","",datePr),datePr_ch) -> 25.04.2022
M11: ="Номер подачи заявления об "&IF(numberPr_ch="","утверждении","изменении") & " тарифов" -> Номер подачи заявления об утверждении тарифов | O11: =IF(numberPr_ch="",IF(numberPr="","",numberPr),numberPr_ch) -> 031/СН/2022
U13: dp
L15: Параметры формы | W15: Описание параметров формы
L16: № п/п | M16: Параметр дифференциации тарифа | O16: Период действия тарифа | U16: Наличие других периодов действия тарифа | V16: Добавить период
O17: Одноставочный тариф, руб./Гкал | P17: Двухставочный тариф | R17: Период действия
P18: ставка за тепловую энергию, руб./Гкал | Q18: ставка за содержание тепловой мощности, тыс.руб./Гкал/ч/мес | R18: дата начала | S18: дата окончания
K19: 1 | L19: 1 | M19: 2 | N19: =OFFSET(N19,0,-1) -> 2 | O19: =OFFSET(O19,0,-1)+1 -> 3 | P19: =OFFSET(P19,0,-1)+1 -> 4 | Q19: =OFFSET(Q19,0,-1)+1 -> 5 | R19: =OFFSET(R19,0,-1)+1 -> 6 | S19: =OFFSET(S19,0,-1)+1 -> 7 | U19: =OFFSET(U19,0,-2)+1 -> 8 | V19: =OFFSET(V19,0,-1) -> 8 | W19: =OFFSET(W19,0,-1)+1 -> 9
A20: 1 | L20: =mergeValue(A20) -> 1 | M20: Наименование тарифа | W20: Указывается наименование тарифа в случае подачи предложения по нескольким тарифам. В случае наличия нескольких тарифов информация по ним указывается в отдельных строках. | Z20: =IF(M20="","",M20 ) -> Наименование тарифа
B21: 1 | L21: =mergeValue(A21) &"."& mergeValue(B21) -> 1.1 | M21: Территория действия тарифа | W21: Указывается наименование территории действия тарифа при наличии дифференциации тарифа по территориальному признаку. В случае дифференциации тарифов по территориальному признаку информация по ним указывается в отдельных строках. | Z21: =IF(M21="","",M21 ) -> Территория действия тарифа
C22: 1 | L22: =mergeValue(A22) &"."& mergeValue(B22)&"."& mergeValue(C22) -> 1.1.1 | M22: Наименование системы теплоснабжения | W22: Указывается наименование системы теплоснабжения при наличии дифференциации тарифа по системам теплоснабжения. В случае дифференциации тарифов по системам теплоснабжения информация по ним указывается в отдельных строках. | Z22: =IF(M22="","",M22 ) -> Наименование системы теплоснабжения
D23: 1 | L23: =mergeValue(A23) &"."& mergeValue(B23)&"."& mergeValue(C23)&"."& mergeValue(D23) -> 1.1.1.1 | M23: Источник тепловой энергии | W23: Указывается наименование источника тепловой энергии В случае дифференциации тарифов по источникам тепловой энергии информация по ним указывается в отдельных строках. | Z23: =IF(M23="","",M23 ) -> Источник тепловой энергии
E24: 1 | H24: 1 | I24: 1 | L24: =mergeValue(A24) &"."& mergeValue(B24)&"."& mergeValue(C24)&"."& mergeValue(D24)&"."& mergeValue(E24) -> 1.1.1.1.1 | M24: Схема подключения теплопотребляющей установки к коллектору источника тепловой энергии | W24: Указывается схема подключения теплопотребляющей установки к коллектору источника тепловой энергии только для тарифов на тепловую энергию и за услуги по поддержанию резервной мощности. Значение выбирается из перечня: Без дифференциации; к коллектору источника тепловой энергии; к тепловой сети без дополнительного преобразования на тепловых пунктах, эксплуатируемых теплоснабжающей организацией; к тепловой сети после тепловых пунктов (на тепловых пунктах), эксплуатируемых теплоснабжающей организацией. В случае дифференциации тарифов по схемам подключения теплопотребляющей установки к коллектору источника тепловой энергии информация по ним указывается в отдельных строках. | Z24: =IF(M24="","",M24 ) -> Схема подключения теплопотребляющей установки к коллектору источника тепловой энергии
F25: 1 | J25: 1 | L25: =mergeValue(A25) &"."& mergeValue(B25)&"."& mergeValue(C25)&"."& mergeValue(D25)&"."& mergeValue(E25)&"."& mergeValue(F25) -> 1.1.1.1.1.1 | M25: Группа потребителей | W25: Указывается группа потребителей при наличии дифференциации тарифа по группам потребителей. Значение выбирается из перечня: Организации-перепродавцы; Бюджетные организации; Население; Прочие; Без дифференциации. В случае дифференциации тарифов группам потребителей информация по ним указывается в отдельных строках. | Z25: =IF(M25="","",M25 ) -> Группа потребителей
G26: 1 | K26: 1 | L26: =mergeValue(A26) &"."& mergeValue(B26)&"."& mergeValue(C26)&"."& mergeValue(D26)&"."& mergeValue(E26)&"."& mergeValue(F26)&"."& mergeValue(G26) -> 1.1.1.1.1.1.1 | S26: да | U26: нет | W26: В колонке «Параметр дифференциации тарифов» указывается вид теплоносителя. Значение выбирается из перечня: вода; пар; отборный пар, 1.2-2.5 кг/см2; отборный пар, 2.5-7 кг/см2; отборный пар, 7-13 кг/см2; отборный пар, > 13 кг/см2; острый и редуцированный пар; горячая вода в системе централизованного теплоснабжения на отопление; горячая вода в системе централизованного теплоснабжения на горячее водоснабжение; прочее. При подаче предложения на двухставочный тариф колонка «Одноставочный тариф» не заполняется. При подаче предложения на одноставочный тариф колонки в блоке «Двухставочный тариф» не заполняются. Даты начала и окончания действия тарифов указываются в виде «ДД.ММ.ГГГГ». В случае отсутствия даты окончания действия тарифа в колонке «Дата окончания» указывается «Нет». Информация в колонке «Ставка за содержание тепловой мощности, тыс. руб./Гкал/ч/мес» указывается только для тарифа по поддержанию резервной мощности. В случае дифференциации тарифов по периодам действия тарифа информация по ним указывается в отдельных колонках. В случае дифференциации тарифов по видам теплоносителя информация по ним указывается в отдельных строках. | X26: =strCheckDate(O27:V27) | Z26: =IF(M26="","",M26 )
Q27: =R26 & "-" & T26 -> - | Z27: =IF(M27="","",M27 )
M28: Добавить вид теплоносителя (параметры теплоносителя) | Z28: =IF(M28="","",M28 ) -> Добавить вид теплоносителя (параметры теплоносителя)
M29: Добавить группу потребителей | Z29: =IF(M29="","",M29 ) -> Добавить группу потребителей
M30: Добавить схему подключения | Z30: =IF(M30="","",M30 ) -> Добавить схему подключения
M31: Добавить источник тепловой энергии | Z31: =IF(M31="","",M31 ) -> Добавить источник тепловой энергии
M32: Добавить наименование системы теплоснабжения | Z32: =IF(M32="","",M32 ) -> Добавить наименование системы теплоснабжения
M33: Добавить территорию действия тарифа | Z33: =IF(M33="","",M33 ) -> Добавить территорию действия тарифа
M34: Добавить наименование тарифа
L36: 1 | M36: Для каждого вида тарифа в сфере теплоснабжения форма заполняется отдельно. При размещении информации по данной форме дополнительно указывается дата подачи заявления об утверждении тарифа и его номер. По данной форме размещается в том числе информация о предложении об установлении цен (тарифов) в сфере теплоснабжения для единых теплоснабжающих организаций, а также теплоснабжающих организаций, теплосетевых организаций в ценовых зонах теплоснабжения.

Sheet Форма 1.0.1 | Т-ТЭ | индикат
A1: 3
F2: Форма 1.0.1 Основные параметры раскрываемой информации 1
F4: Параметры формы | I4: Описание параметров формы
F5: № п/п | G5: Наименование параметра | H5: Информация
F6: 1 | G6: 2 | H6: 3 | I6: 4 | J6: 4
F7: 1 | G7: Дата заполнения/внесения изменений | H7: =IF(dateCh="","",dateCh) -> 11.05.2022 | I7: Указывается календарная дата первичного заполнения или внесения изменений в форму в виде «ДД.ММ.ГГГГ».
A8: 1 | F8: ="2." &mergeValue(A8) -> 2.1 | G8: Наименование централизованной системы коммунальной инфраструктуры | I8: Указывается наименование централизованной системы холодного водоснабжения/горячего водоснабжения/водоотведения/теплоснабжения, к которой относится размещаемая информация. В случае наличия нескольких централизованных систем коммунальной инфраструктуры, информация по каждой из них указывается в отдельной строке.
F9: ="3." &mergeValue(A9) -> 3.1 | G9: Наименование регулируемого вида деятельности | I9: Указывается наименование вида регулируемой деятельности.
F10: ="4."&mergeValue(A10) -> 4.1 | G10: Территория оказания услуги по регулируемому виду деятельности | H10: x
B11: 1 | F11: ="4."&mergeValue(A11) &"."&mergeValue(B11) -> 4.1.1 | G11: Субъект Российской Федерации | H11: =IF(region_name="","",region_name) -> Челябинская область | I11: Указывается наименование субъекта Российской Федерации
C12: 1 | F12: ="4."&mergeValue(A12) &"."&mergeValue(B12)&"."&mergeValue(C12) -> 4.1.1.1 | G12: муниципальный район | I12: Указывается наименование муниципального района, на территории которого организация оказывает услуги по регулируемому виду деятельности.
D13: 1 | F13: ="4."&mergeValue(A13) &"."&mergeValue(B13)&"."&mergeValue(C13)&"."&mergeValue(D13) -> 4.1.1.1.1 | G13: муниципальное образование | I13: Указывается наименование и код муниципального района, муниципального образования в соответствии с Общероссийским классификатором территорий муниципальных образований (далее - ОКТМО), входящего в муниципальный район, на территории которого организация оказывает услуги по регулируемому виду деятельности. В случае оказания услуг по регулируемому виду деятельности на территории нескольких муниципальных районов (муниципальных образований) данные по каждому их них указываются в отдельной строке.
G14: Добавить МО
G15: Добавить МР
G16: Добавить территорию
G17: Добавить ЦС
G19: 1 Информация размещается при раскрытии информации по каждой из форм.

Sheet Форма 4.10.2 | Т-ТЭ | индикат
L5: Форма 4.10.2 Информация о предложении величин тарифов на тепловую энергию, поддержанию резервной тепловой мощности1
M7: График поэтапного равномерного доведения предельного уровня цены на тепловую энергию (мощность)
M10: ="Дата подачи заявления об "&IF(datePr_ch="","утверждении","изменении") & " тарифов" -> Дата подачи заявления об утверждении тарифов | O10: =IF(datePr_ch="",IF(datePr="","",datePr),datePr_ch) -> 25.04.2022
M11: ="Номер подачи заявления об "&IF(numberPr_ch="","утверждении","изменении") & " тарифов" -> Номер подачи заявления об утверждении тарифов | O11: =IF(numberPr_ch="",IF(numberPr="","",numberPr),numberPr_ch) -> 031/СН/2022
U13: dp
L15: Параметры формы | W15: Описание параметров формы
L16: № п/п | M16: Параметр дифференциации тарифа | O16: Период действия тарифа | U16: Наличие других периодов действия тарифа | V16: Добавить период
O17: Одноставочный тариф, руб./Гкал | P17: Двухставочный тариф | R17: Период действия
P18: ставка за тепловую энергию, руб./Гкал | Q18: ставка за содержание тепловой мощности, тыс.руб./Гкал/ч/мес | R18: дата начала | S18: дата окончания
K19: 1 | L19: 1 | M19: 2 | N19: =OFFSET(N19,0,-1) -> 2 | O19: =OFFSET(O19,0,-1)+1 -> 3 | P19: =OFFSET(P19,0,-1)+1 -> 4 | Q19: =OFFSET(Q19,0,-1)+1 -> 5 | R19: =OFFSET(R19,0,-1)+1 -> 6 | S19: =OFFSET(S19,0,-1)+1 -> 7 | U19: =OFFSET(U19,0,-2)+1 -> 8 | V19: =OFFSET(V19,0,-1) -> 8 | W19: =OFFSET(W19,0,-1)+1 -> 9
A20: 1 | L20: =mergeValue(A20) -> 1 | M20: Наименование тарифа | W20: Указывается наименование тарифа в случае подачи предложения по нескольким тарифам. В случае наличия нескольких тарифов информация по ним указывается в отдельных строках. | Z20: =IF(M20="","",M20 ) -> Наименование тарифа
B21: 1 | L21: =mergeValue(A21) &"."& mergeValue(B21) -> 1.1 | M21: Территория действия тарифа | W21: Указывается наименование территории действия тарифа при наличии дифференциации тарифа по территориальному признаку. В случае дифференциации тарифов по территориальному признаку информация по ним указывается в отдельных строках. | Z21: =IF(M21="","",M21 ) -> Территория действия тарифа
C22: 1 | L22: =mergeValue(A22) &"."& mergeValue(B22)&"."& mergeValue(C22) -> 1.1.1 | M22: Наименование системы теплоснабжения | W22: Указывается наименование системы теплоснабжения при наличии дифференциации тарифа по системам теплоснабжения. В случае дифференциации тарифов по системам теплоснабжения информация по ним указывается в отдельных строках. | Z22: =IF(M22="","",M22 ) -> Наименование системы теплоснабжения
D23: 1 | L23: =mergeValue(A23) &"."& mergeValue(B23)&"."& mergeValue(C23)&"."& mergeValue(D23) -> 1.1.1.1 | M23: Источник тепловой энергии | W23: Указывается наименование источника тепловой энергии В случае дифференциации тарифов по источникам тепловой энергии информация по ним указывается в отдельных строках. | Z23: =IF(M23="","",M23 ) -> Источник тепловой энергии
E24: 1 | H24: 1 | I24: 1 | L24: =mergeValue(A24) &"."& mergeValue(B24)&"."& mergeValue(C24)&"."& mergeValue(D24)&"."& mergeValue(E24) -> 1.1.1.1.1 | M24: Схема подключения теплопотребляющей установки к коллектору источника тепловой энергии | W24: Указывается схема подключения теплопотребляющей установки к коллектору источника тепловой энергии только для тарифов на тепловую энергию и за услуги по поддержанию резервной мощности. Значение выбирается из перечня: Без дифференциации; к коллектору источника тепловой энергии; к тепловой сети без дополнительного преобразования на тепловых пунктах, эксплуатируемых теплоснабжающей организацией; к тепловой сети после тепловых пунктов (на тепловых пунктах), эксплуатируемых теплоснабжающей организацией. В случае дифференциации тарифов по схемам подключения теплопотребляющей установки к коллектору источника тепловой энергии информация по ним указывается в отдельных строках. | Z24: =IF(M24="","",M24 ) -> Схема подключения теплопотребляющей установки к коллектору источника тепловой энергии
