Workbook

Sheet Прил. 2 (приказ 1831-э)
CN1: Приложение 2
CN2: к приказу Федеральной службы по тарифам
CN3: от 24 октября 2014 г. № 1831-э
A5: Форма раскрытия информации о структуре и объемах затрат
A6: на оказание услуг по передаче электрической энергии сетевыми
A7: организациями, регулирование деятельности которых осуществляется
A8: методом долгосрочной индексации необходимой валовой выручки
C10: Наименование организации: | AG10: АО "ТМК Энергосетевая компания"
C11: ИНН: | J11: 7449045730
C12: КПП: | J12: 744901001
C13: Долгосрочный период регулирования: | AQ13: 2021 | AY13: - | BA13: 2025 | BI13: гг.
A15: № п/п | J15: Показатель | BI15: Ед. изм. | BT15: 2019 год | BV15: 2022 год | BX15: Примечание ***
BT16: план * | BU16: факт ** | BV16: план * | BW16: факт **
A17: I | K17: Структура затрат | BI17: х | BT17: х | BU17: х | BV17: х | BW17: х | BX17: х
A18: 1 | K18: Необходимая валовая выручка на содержание | BI18: тыс. руб. | BT18: =BT19+BT41+BT59 -> 30734.18 | BU18: =BU19+BU41 -> 39219.911 | BV18: 30868.52 | BW18: =BW19+BW41 -> 54298.265
A19: 1.1 | K19: Подконтрольные расходы, всего | BI19: тыс. руб. | BT19: =BT20+BT25+BT27+BT40 -> 20105.58 | BU19: =BU20+BU25+BU27 -> 26312.261 | BV19: =BV20+BV25+BV27 -> 19346.42 | BW19: =BW20+BW25+BW27 -> 37949.573
A20: 1.1.1 | K20: Материальные расходы, всего | BI20: тыс. руб. | BT20: =BT21+BT23 -> 8427.08 | BU20: =BU21+BU23 -> 10391.053 | BV20: =BV21+BV23 -> 5308.73 | BW20: =BW21+BW23 -> 8883.1349
A21: 1.1.1.1 | K21: в том числе на сырье, материалы, запасные части, инструмент, топливо | BI21: тыс. руб. | BT21: 6228.04 | BU21: =8275823.4/1000 -> 8275.8234 | BV21: 3926.73 | BW21: =6143327.01/1000 -> 6143.327 | BX21: Ремонтные работы выполнялись в соответствии актами технического состояния оборудования в необходимом объёме.
A22: 1.1.1.2 | K22: на ремонт | BI22: тыс. руб. | BV22: =BV21 -> 3926.73 | BW22: =BW21 -> 6143.327
A23: 1.1.1.3 | K23: в том числе на работы и услуги производственного характера (в том числе услуги сторонних организаций по содержанию сетей и распределительных устройств) | BI23: тыс. руб. | BT23: 2199.04 | BU23: =2115229.772119/1000 -> 2115.2298 | BV23: 1382 | BW23: =2739807.9/1000 -> 2739.8079
A24: 1.1.1.3.1 | K24: в том числе на ремонт | BI24: тыс. руб. | BT24: =BT23 -> 2199.04 | BU24: =2062762.681843/1000 -> 2062.7627 | BV24: =BV23 -> 1382 | BW24: =BW23 -> 2739.8079
A25: 1.1.2 | K25: Фонд оплаты труда | BI25: тыс. руб. | BT25: 8304.12 | BU25: =10237629.15/1000 -> 10237.629 | BV25: 10848.63 | BW25: =23774687.35/1000 -> 23774.687 | BX25: Фактический ФОТ - в соответствии со штатным расписанием.
A26: 1.1.2.1 | K26: в том числе на ремонт | BI26: тыс. руб. | BU26: =1020701.73/1000 -> 1020.7017
A27: 1.1.3 | K27: Прочие подконтрольные расходы (с расшифровкой) | BI27: тыс. руб. | BT27: =199.15+430.12+584.79+BT29+BT33+BT34+BT35 -> 3269.99 | BU27: =BU29+BU30+BU31+BU33+BU34+BU35+BU36+BU32+BU40 -> 5683.5789 | BV27: 3189.06 | BW27: =BW29+BW31+BW34+BW35+BW40+BW38+BW28 -> 5291.7511
A28: 1.1.3.1 | K28: в том числе прибыль на социальное развитие (включая социальные выплаты) | BI28: тыс. руб. | BW28: 174.168 | BX28: Расходы на выплаты по коллективному договору покрывались за счёт прибыли от других видов деятельности, т.к. по передаче э/э возник убыток.
A29: 1.1.3.2 | K29: в том числе транспортные услуги | BI29: тыс. руб. | BT29: 130.17 | BU29: =(80190+24570)/1000 -> 104.76 | BV29: 111 | BX29: Спецтранспорт для проведения ремонтных работ не требовался.
A30: 1.1.3.3 | K30: в том числе командировочные | BI30: тыс. руб. | BX30: Учтены в составе общехозяйственных и общепроизводственных расходов
A31: 1.1.3.4 | K31: в том числе общехозяйственные и общепроизводственные расходы | BI31: тыс. руб. | BU31: =2959499.380524/1000 -> 2959.4994 | BV31: 2613.55 | BW31: 3865.082
A32: 1.1.3.5 | K32: в том числе медицинские услуги | BI32: тыс. руб. | BX32: Учтены в составе общехозяйственных и общепроизводственных расходов
A33: 1.1.3.6 | K33: в том числе услуги по обучению кадров | BI33: тыс. руб. | BT33: 160.19 | BX33: Учтены в составе общехозяйственных и общепроизводственных расходов
A34: 1.1.3.7 | K34: в том числе энергоресуры | BI34: тыс. руб. | BT34: 1700.94 | BU34: =(1608189.58+87059.99+608.9+559.94)/1000 -> 1696.4184 | BX34: Учтены в составе неподконтрольных расходов
A35: 1.1.3.8 | K35: в том числе спецодежда и охрана труда | BI35: тыс. руб. | BT35: 64.63 | BU35: =805629.07/1000 -> 805.62907 | BV35: 464.61 | BW35: =1193740.27/1000 -> 1193.7403 | BX35: В соответствии с Типовыми нормами бесплатной выдачи специальной одежды, специальной обуви и других средств индивидуальной защиты работникам организаций электроэнергетической промышленности, занятым на работах с вредными и (или) опасными условиями труда, а также на работах, выполняемых в особых температурных условиях или связанных с загрязнением. (Приложение к приказу Министерства здравоохранения и социального развития РФ от 25 апреля 2011г. №340н).
A36: 1.1.3.9 | K36: в том числе обслуживание оргтехники | BI36: тыс. руб. | BX36: Учтены в составе общехозяйственных и общепроизводственных расходов
A37: 1.1.3.10 | K37: прочие услуги сторонних организаций | BI37: тыс. руб.
A38: 1.1.3.11 | K38: расходы на страхование | BI38: тыс. руб. | BW38: =58760.82/1000 -> 58.76082 | BX38: Страхование автотранспорта (ОСАГО)
A39: 1.1.4 | K39: Расходы на обслуживание операционных заемных средств в составе подконтрольных расходов | BI39: тыс. руб.
A40: 1.1.5 | K40: Расходы из прибыли в составе подконтрольных расходов | BI40: тыс. руб. | BT40: 104.39 | BU40: =117272.083/1000 -> 117.27208
A41: 1.2 | K41: Неподконтрольные расходы, включенные в НВВ, всего | BI41: тыс. руб. | BT41: =BT44+BT45+BT47+BT50 -> 9944.26 | BU41: =BU44+BU45+BU47+BU50+BU58 -> 12907.649 | BV41: 12030.33 | BW41: =BW44+BW45+BW47+BW51+BW57 -> 16348.692
A42: 1.2.1 | K42: Оплата услуг ОАО "ФСК ЕЭС" | BI42: тыс. руб.
A43: 1.2.2 | K43: Расходы на оплату технологического присоединения к сетям смежной сетевой организации | BI43: тыс. руб.
...

Sheet 1.6. (приказ 585)
EY1: Таблица 1.6
A3: Расшифровка расходов субъекта естественных монополий, оказывающего услуги по передаче электроэнергии (мощности) по электрическим сетям, принадлежащим на праве собственности
A4: или ином законном основании территориальным сетевым организациям
A6: Заполняется: | AN6: Субъектами естественных монополий, оказывающими услуги по передаче электроэнергии (мощности) по электрическим сетям, принадлежащим на праве собственности
AN7: или ином законном основании территориальным сетевым организациям
A8: Период заполнения: | AN8: Годовая
A9: Требования к заполнению: | AN9: Заполняется отдельно по каждому субъекту РФ
A11: Организация: | DG11: АО "Энергосетевая компания ЧТПЗ" (АО "ТМК Энергосетевая компания")
A12: Идентификационный номер налогоплательщика (ИНН): | DG12: 7449045730
A13: Местонахождение (адрес): | DG13: 454129, г.Челябинск, ул.Машиностроителей,21
A14: Субъект РФ: | DG14: Челябинская область
A15: Отчетный период: | DG15: 2022 год
A18: Показатель | AN18: Единица измерения | AV18: Код показа-теля | BB18: За отчетный период, всего по предприятию | BK18: из графы 4: по Субъекту РФ, указанному в заголовке формы | BT18: из графы 5 по видам деятельности * | CV18: За аналогичный период пре-дыдущего года, всего по предприятию | DE18: из графы 10: по Субъекту РФ, указанному в заголовке формы | DN18: из графы 10 по видам деятельности * | EP18: Примечания: принцип разделения показателей по субъектам РФ и по видам деятельности согласно ОРД предприятия
BT19: Передача по расп-редели-тельным сетям | CA19: Техноло-гическое присоеди-нение | CH19: Передача и техно-логичес-кое присоеди-нение | CO19: Прочие виды деятель-ности | DN19: Передача по расп-редели-тельным сетям | DU19: Техноло-гическое присоеди-нение | EB19: Передача и техно-логичес-кое присоеди-нение | EI19: Прочие виды деятель-ности
A20: 1 | AN20: 2 | AV20: 3 | BB20: 4 | BK20: 5 | BT20: 6 | CA20: 7 | CH20: 8 (сумма гр. 6 и 7) | CO20: 9 | CV20: 10 | DE20: 11 | DN20: 12 | DU20: 13 | EB20: 14 (сумма гр. 12 и 13) | EI20: 15 | EP20: 16
A21: Расходы, учитываемые в целях налогообложения прибыли, всего, в том числе (сумма строк 110, 120, 130, 140, 150, 160, 170, 180, 190) | AN21: тыс. руб. | AV21: 100 | BB21: 763332 | BT21: ='Прил. 2 (приказ 1831-э)'!BW18+'Прил. 2 (приказ 1831-э)'!BW61-BT55 -> 59389.212 | BU21: 44939016 | BV21: 44939016 | BW21: 44939016 | BX21: 44939016 | BY21: 44939016 | BZ21: 44939016 | CA21: =351640.22/1000 -> 351.64022 | CH21: =BT21+CA21 -> 59740.853 | CO21: =BB21-CH21 -> 703591.15 | CV21: 665423 | DN21: 40271.046 | DO21: 44939016 | DP21: 44939016 | DQ21: 44939016 | DR21: 44939016 | DS21: 44939016 | DT21: 44939016 | DU21: 168.80794 | EB21: 40439.854 | EI21: 624983.15
A22: Материальные расходы (сумма строк 111, 112, 113) | AN22: тыс. руб. | AV22: 110 | BB22: =BB23+BB24+BB29 -> 161178 | BT22: =BT23+BT24+BT29 -> 5265.1154 | CA22: =CA23 -> 198.85409 | CH22: =BT22+CA22 -> 5463.9695 | CO22: =BB22-CH22 -> 155714.03 | CV22: 132678.98 | DN22: 4296.3621 | EB22: 4296.3621 | EI22: 128382.62
A23: Расходы на приобретение сырья и материалов | AN23: тыс. руб. | AV23: 111 | BB23: 121034 | CA23: =198854.09/1000 -> 198.85409 | CH23: =CA23 -> 198.85409 | CO23: =BB23-CH23 -> 120835.15 | CV23: 89486.983 | EI23: 89486.983
A24: Расходы на приобретение электрической энергии на компенсацию технологического расхода (потерь) электрической энергии в сетях, в том числе по уровням напряжения: | AN24: тыс. руб. | AV24: 112 | BB24: 14366 | BT24: ='Прил. 2 (приказ 1831-э)'!BW61 -> 5265.1154 | CH24: =BT24+CA24 -> 5265.1154 | CO24: =BB24-CH24 -> 9100.8846 | CV24: 13276 | DN24: 4296.3621 | EB24: 4296.3621 | EI24: 8979.6379
A25: ВН | AN25: тыс. руб. | BB25: =BB24 -> 14366 | BT25: =BT24 -> 5265.1154 | CH25: =BT25+CA25 -> 5265.1154 | CO25: =BB25-CH25 -> 9100.8846 | CV25: 13276 | DN25: 4296.3621 | EB25: 4296.3621 | EI25: 8979.6379
A26: СН1 | AN26: тыс. руб.
A27: СН2 | AN27: тыс. руб.
A28: НН | AN28: тыс. руб.
A29: Расходы на приобретение электрической энергии на хозяйственные нужды | AN29: тыс. руб. | AV29: 113 | BB29: 25778 | CO29: =BB29-CH29 -> 25778 | CV29: 29916 | EI29: 29916
A30: Расходы на оплату услуг сторонних организаций (сумма строк 121, 122, 123, 124) | AN30: тыс. руб. | AV30: 120 | BB30: =BB31+BB32+BB33+BB34 -> 32623.68 | BT30: =BT31+BT32+BT33+BT34 -> 2798.5687 | CH30: =BT30+CA30 -> 2798.5687 | CO30: =BB30-CH30 -> 29825.111 | CV30: 20170.54 | DN30: 5609.5778 | EB30: 5609.5778 | EI30: 14560.962
A31: Расходы на страхование | AN31: тыс. руб. | AV31: 121 | BB31: 64.68 | BT31: ='Прил. 2 (приказ 1831-э)'!BW38 -> 58.76082 | CH31: =BT31 -> 58.76082 | CO31: =BB31-CH31 -> 5.91918 | CV31: 98.35179 | DN31: 9.6104 | EB31: 9.6104 | EI31: 88.74139
A32: Оплата услуг ОАО "ФСК ЕЭС" | AN32: тыс. руб. | AV32: 122
A33: Оплата услуг по передаче электрической энергии, оказываемых другими сетевыми организациями | AN33: тыс. руб. | AV33: 123
A34: Расходы на ремонт основных средств, выполняемые подрядным способом | AN34: тыс. руб. | AV34: 124 | BB34: 32559 | BT34: ='Прил. 2 (приказ 1831-э)'!BW24 -> 2739.8079 | CH34: =BT34+CA34 -> 2739.8079 | CO34: =BB34-CH34 -> 29819.192 | CV34: 20072.188 | DN34: 5599.9674 | EB34: 5599.9674 | EI34: 14472.221
A35: Расходы на оплату труда | AN35: тыс. руб. | AV35: 130 | BB35: 316030 | BT35: ='Прил. 2 (приказ 1831-э)'!BW25 -> 23774.687 | CA35: =93328.8/1000 -> 93.3288 | CH35: =BT35+CA35 -> 23868.016 | CO35: =BB35-CH35 -> 292161.98 | CV35: 255116.2 | DN35: 13050.222 | DU35: 95.0041 | EB35: 13145.226 | EI35: 241970.97
A36: Управленческий персонал | AN36: тыс. руб. | BB36: 32416 | BT36: =2391176.88/1000 -> 2391.1769 | BU36: 1059327.7 | BV36: 1059327.7 | BW36: 1059327.7 | BX36: 1059327.7 | BY36: 1059327.7 | BZ36: 1059327.7 | CA36: =8848.49/1000 -> 8.84849 | CH36: =BT36+CA36 -> 2400.0254 | CO36: =BB36-CH36 -> 30015.975 | CV36: 25054.697 | DN36: 1197.4171 | DO36: 1059327.7 | DP36: 1059327.7 | DQ36: 1059327.7 | DR36: 1059327.7 | DS36: 1059327.7 | DT36: 1059327.7 | DU36: 8.50513 | EB36: 1205.9222 | EI36: 23848.775
A37: Специалисты и технические | AN37: тыс. руб. | BB37: 43957 | BT37: =2766771.45/1000 -> 2766.7715 | BU37: 1020701.7 | BV37: 1020701.7 | BW37: 1020701.7 | BX37: 1020701.7 | BY37: 1020701.7 | BZ37: 1020701.7 | CA37: =10234.88/1000 -> 10.23488 | CH37: =BT37+CA37 -> 2777.0063 | CO37: =BB37-CH37 -> 41179.994 | CV37: 42999.552 | DN37: 1605.9877 | DO37: 1020701.7 | DP37: 1020701.7 | DQ37: 1020701.7 | DR37: 1020701.7 | DS37: 1020701.7 | DT37: 1020701.7 | DU37: 9.1562 | EB37: 1615.1439 | EI37: 41384.409
A38: Основные производственные рабочие | AN38: тыс. руб. | BB38: =BB35-BB36-BB37 -> 239657 | BT38: =18616739.02/1000 -> 18616.739 | CA38: =74245.43/1000 -> 74.24543 | CH38: =BT38+CA38 -> 18690.984 | CO38: =BB38-CH38 -> 220966.02 | CV38: 187061.95 | DN38: 10246.817 | DU38: 77.34277 | EB38: 10324.16 | EI38: 176737.79
A39: Справочно: среднесписочная численность промышленно-производственного персонала организации ** | AN39: чел. | BB39: 441 | BT39: 43 | CA39: 0.2 | CH39: =BT39+CA39 -> 43.2 | CO39: =BB39-CH39 -> 397.8 | CV39: 439 | DN39: 30 | DU39: 0.2 | EB39: 30 | EI39: 409
A40: Управленческий персонал | AN40: чел. | BB40: 24 | BT40: 2 | CH40: =BT40 -> 2 | CO40: =BB40-CH40 -> 22 | CV40: 24 | DN40: 2 | EB40: 2 | EI40: 22
A41: Специалисты и технические | AN41: чел. | BB41: 56 | BT41: 6 | CH41: 4 | CO41: =BB41-CH41 -> 52 | CV41: 56 | DN41: 3 | EB41: 3 | EI41: 53
A42: Основные производственные рабочие | AN42: чел. | BB42: =BB39-BB40-BB41 -> 361 | BT42: =BT39-BT40-BT41 -> 35 | CH42: =CH39-CH40-CH41 -> 37.2 | CO42: =BB42-CH42 -> 323.8 | CV42: 359 | DN42: 25 | EB42: 25 | EI42: 334
A43: Расходы на выплату страховых взносов в Пенсионный фонд Российской Федерации, Фонд социального страхования Российской Федерации, Федеральный фонд обязательного медицинского страхования и территориальные фонды обязательного медицинского страхования | AN43: тыс. руб. | AV43: 140 | BB43: 95097 | BT43: ='Прил. 2 (приказ 1831-э)'!BW45 -> 7165.042 | CA43: =28061.74/1000 -> 28.06174 | CH43: =BT43+CA43 -> 7193.1037 | CO43: =BB43-CH43 -> 87903.896 | CV43: 76945.28 | DN43: 3950.035 | DU43: 28.52889 | EB43: 3978.5639 | EI43: 72966.716
A44: Амортизация основных средств | AN44: тыс. руб. | AV44: 150 | BB44: 11901 | BT44: ='Прил. 2 (приказ 1831-э)'!BW47 -> 2802.5722 | CH44: =BT44+CA44 -> 2802.5722 | CO44: =BB44-CH44 -> 9098.4278 | CV44: 9678 | DN44: 2664.4721 | EB44: 2664.4721 | EI44: 7013.5279
A45: Аренда и лизинговые платежи (сумма строк 161, 162) | AN45: тыс. руб. | AV45: 160 | BB45: 36615 | BT45: ='Прил. 2 (приказ 1831-э)'!BW44 -> 6138.8361 | CH45: =BT45+CA45 -> 6138.8361 | CO45: =BB45-CH45 -> 30476.164 | CV45: 60941 | DN45: 6470.129 | EB45: 6470.129 | EI45: 54470.871
...

Sheet Прил. 4 (приказ 1831-э)
BL1: Приложение 4
BL2: к приказу Федеральной службы по тарифам
BL3: от 24 октября 2014 г. № 1831-э
A5: Форма раскрытия информации о движении активов, включающий балансовую
A6: стоимость активов на начало года, балансовую стоимость активов на конец года,
A7: а также информацию о выбытии активов в течение года, о вводе активов в течение
A8: года, в том числе за счет переоценки, модернизации, реконструкции, строительства
A9: и приобретения нового оборудования
C11: Наименование
C12: организации | Q12: АО "ТМК ЭСК"
C13: ИНН: | J13: 7449045730
C14: КПП: | J14: 744901001
A16: № п/п | H16: Показатель | BD16: Ед. изм. | BO16: 2022 год | CI16: Примечание *
BO17: план | BY17: факт
A18: 1 | I18: Остаточная балансовая стоимость активов на начало года долгосрочного периода регулирования | BD18: тыс. руб. | BY18: =41728480.84/1000 -> 41728.481
A19: 2 | I19: Ввод активов (основных средств), всего | BD19: тыс. руб.
BD20: МВА
BD21: км
A22: 2.1 | I22: Увеличение стоимости активов (основных средств) за счет переоценки | BD22: тыс. руб.
A23: 2.2 | I23: Ввод активов (основных средств) за год | BD23: тыс. руб.
BD24: МВА
BD25: км
A26: 2.2.1 | I26: в том числе модернизация и реконструкция | BD26: тыс. руб.
BD27: МВА
BD28: км
A29: 2.2.2 | I29: в том числе новое строительство | BD29: тыс. руб.
BD30: МВА
BD31: км
A32: 2.2.3 | I32: Прочее, в том числе приобретение нового оборудования | BD32: тыс. руб.
BD33: МВА
BD34: км
A35: 3 | I35: Выбытие активов (основных средств) | BD35: тыс. руб. | BY35: 4062.5
BD36: МВА
BD37: км
A38: 4 | I38: Остаточная балансовая стоимость активов на конец года долгосрочного периода регулирования | BD38: тыс. руб. | BY38: =BY18-BY35-'Прил. 2 (приказ 1831-э)'!BW47 -> 34863.409
A40: Примечание:
A42: _____*_При наличии отклонений фактических значений показателей от плановых значений более чем на 15 процентов в столбце <Примечание> указываются причины их возникновения.

Sheet Прил.2 (приказ 1831-э) (филиал)
CN1: Приложение 2
CN2: к приказу Федеральной службы по тарифам
CN3: от 24 октября 2014 г. № 1831-э
A5: Форма раскрытия информации о структуре и объемах затрат
A6: на оказание услуг по передаче электрической энергии сетевыми
A7: организациями, регулирование деятельности которых осуществляется
A8: методом долгосрочной индексации необходимой валовой выручки
C10: Наименование организации: | AG10: филиал АО "ТМК Энергосетевая компания" в г. Первоуральске
C11: ИНН: | J11: 7449045730
C12: КПП: | J12: 668443001
C13: Долгосрочный период регулирования: | AQ13: 2022 | AY13: - | BA13: 2026 | BI13: гг.
A15: № п/п | J15: Показатель | BI15: Ед. изм. | BT15: 2019 год | BV15: 2022 год | BX15: Примечание ***
BT16: план * | BU16: факт ** | BV16: план * | BW16: факт **
A17: I | K17: Структура затрат | BI17: х | BT17: х | BU17: х | BX17: х
A18: 1 | K18: Необходимая валовая выручка на содержание | BI18: тыс. руб. | BT18: =BT19+BT43+BT58 -> 30457.791 | BU18: =BU19+BU43 -> 43870.174 | BV18: 25150.203 | BW18: =BW19+BW43 -> 57421.68
A19: 1.1 | K19: Подконтрольные расходы, всего | BI19: тыс. руб. | BT19: =BT20+BT25+BT27+BT40+BT41 -> 11392.417 | BU19: =BU20+BU25+BU27+BU40+BU41 -> 25976.162 | BV19: =BV20+BV25+BV27 -> 24154.81 | BW19: =BW20+BW25+BW27+BW42 -> 37480.821
A20: 1.1.1 | K20: Материальные расходы, всего | BI20: тыс. руб. | BT20: =BT22+BT23 -> 2336.4169 | BU20: =BU22+BU23 -> 8589.2697 | BV20: =BV23+BV21 -> 7036.07 | BW20: =BW21+BW23 -> 7451.497 | BX20: Ремонтные работы выполнялись в соответствии актами технического состояния оборудования в необходимом объёме.
A21: 1.1.1.1 | K21: в том числе на сырье, материалы, запасные части, инструмент, топливо | BI21: тыс. руб. | BV21: 174.97 | BW21: =2789992.9/1000 -> 2789.9929
A22: 1.1.1.2 | K22: на ремонт | BI22: тыс. руб. | BT22: 2138.9092 | BU22: =8193455.863188/1000 -> 8193.4559 | BV22: =BV21 -> 174.97 | BW22: =BW21 -> 2789.9929
A23: 1.1.1.3 | K23: в том числе на работы и услуги производственного характера (в том числе услуги сторонних организаций по содержанию сетей и распределительных устройств) | BI23: тыс. руб. | BT23: 197.50764 | BU23: =74864.772033/1000+320949.050291/1000 -> 395.81382 | BV23: 6861.1 | BW23: =4661504.08/1000 -> 4661.5041
A24: 1.1.1.3.1 | K24: в том числе на ремонт | BI24: тыс. руб. | BT24: =BT23 -> 197.50764 | BU24: =BU23-36579.470989/1000 -> 359.23435 | BV24: =BV23 -> 6861.1 | BW24: =BW23 -> 4661.5041
A25: 1.1.2 | K25: Фонд оплаты труда | BI25: тыс. руб. | BT25: 8010.8989 | BU25: =12553167.563956/1000 -> 12553.168 | BV25: 13237.93 | BW25: =22207200.39/1000 -> 22207.2 | BX25: ФОТ в соответствии со штатным расписанием филиала.
A26: 1.1.2.1 | K26: в том числе на ремонт | BI26: тыс. руб. | BU26: =1823485.12/1000 -> 1823.4851
A27: 1.1.3 | K27: Прочие подконтрольные расходы (с расшифровкой) | BI27: тыс. руб. | BT27: =BT28+BT29+BT30+BT31+BT32+BT33+BT34+BT35+BT36+BT37+BT38+BT39 -> 1045.1016 | BU27: =BU28+BU29+BU30+BU31+BU32+BU33+BU34+BU35+BU36+BU37+BU38+BU39 -> 4833.7249 | BV27: 3880.81 | BW27: =BW28+BW29+BW31+BW34+BW35+BW39 -> 7822.1233
A28: 1.1.3.1 | K28: в том числе прибыль на социальное развитие (включая социальные выплаты) | BI28: тыс. руб. | BU28: =207076.983/1000 -> 207.07698 | BX28: Расходы на выплаты по коллективному договору покрывались за счёт прибыли от других видов деятельности, т.к. по передаче э/э возник убыток.
A29: 1.1.3.2 | K29: в том числе транспортные услуги | BI29: тыс. руб. | BU29: =379639.352048/1000+431038.002307/1000 -> 810.67735 | BV29: 941.2 | BW29: =2797641.65/1000 -> 2797.6417 | BX29: Транспортные услуги: спецтехника для проведения ремонтных работ хоз.способом, аренда дежурного и аварийного транспорта. Превышение обусловлено отсутствием в тарифном решении расходов на транспортные услуги.
A30: 1.1.3.3 | K30: в том числе командировочные | BI30: тыс. руб. | BU30: =45131.851357/1000 -> 45.131851 | BX30: Фактические расходы по статье учтены в составе ОХР и ОПР.
A31: 1.1.3.4 | K31: в том числе охрана труда и ТБ | BI31: тыс. руб. | BT31: 387.22885 | BU31: =1587193.034394/1000 -> 1587.193 | BV31: 1374.87 | BW31: =1081580.33/1000 -> 1081.5803 | BX31: В соответствии с Типовыми нормами бесплатной выдачи специальной одежды, специальной обуви и других средств индивидуальной защиты работникам организаций электроэнергетической промышленности, занятым на работах с вредными и (или) опасными условиями труда, а также на работах, выполняемых в особых температурных условиях или связанных с загрязнением. (Приложение к приказу Министерства здравоохранения и социального развития РФ от 25 апреля 2011г. №340н).
A32: 1.1.3.5 | K32: в том числе медицинские услуги | BI32: тыс. руб. | BU32: =63521.471873/1000+75337.723206/1000 -> 138.8592 | BX32: Фактические расходы по статье учтены в составе ОХР и ОПР.
A33: 1.1.3.6 | K33: в том числе услуги по обучению кадров | BI33: тыс. руб. | BT33: 88.828509 | BU33: =29129.360884/1000+70799.972773/1000 -> 99.929334 | BX33: Фактические расходы по статье учтены в составе ОХР и ОПР.
A34: 1.1.3.7 | K34: в том числе общехозяйственные и общепроизводственные расходы | BI34: тыс. руб. | BU34: =(2341816.857603+441889.555564)/1000-BU30-431038.002307/1000-320949.050291/1000-BU32-BU33-BU35-BU36-BU37-BU38 -> 1387.2201 | BV34: 1564.74 | BW34: 3475.11 | BX34: Превышение обусловлено отсутствием в тарифном решении на 2021 год общехозяйственных и общепроизводственных расходов.
A35: 1.1.3.8 | K35: расходы на аудиторские и консультационные услуги | BI35: тыс. руб. | BT35: 215.00358 | BU35: =167117.586052/1000 -> 167.11759 | BX35: Фактические расходы по статье учтены в составе ОХР и ОПР.
A36: 1.1.3.9 | K36: в том числе услуги связи | BI36: тыс. руб. | BT36: 93.283101 | BU36: =44770.641584/1000 -> 44.770642 | BX36: Фактические расходы по статье учтены в составе ОХР и ОПР.
A37: 1.1.3.10 | K37: в том числе охрана и коммунальное хозяйство | BI37: тыс. руб. | BT37: 161.19892 | BU37: =76671.462739/1000 -> 76.671463 | BX37: Фактические расходы по статье учтены в составе ОХР и ОПР.
A38: 1.1.3.11 | K38: в том числе обслуживание оргтехники | BI38: тыс. руб. | BU38: =72019.202943/1000 -> 72.019203 | BX38: Фактические расходы по статье учтены в составе ОХР и ОПР.
A39: 1.1.3.12 | K39: в том числе прочие услуги | BI39: тыс. руб. | BT39: =24.9833651595392+74.5753142814544 -> 99.558679 | BU39: =197058.18/1000 -> 197.05818 | BW39: =467791.33/1000 -> 467.79133 | BX39: Вырубка и вывоз леса из охранной зоны ЛЭП 6 кВ п. Молодёжный
A40: 1.1.4 | K40: Расходы на обслуживание операционных заемных средств в составе подконтрольных расходов | BI40: тыс. руб.
A41: 1.1.5 | K41: Расходы из прибыли в составе подконтрольных расходов | BI41: тыс. руб.
A42: 1.1.6 | K42: Юридические и информационные услуги | BI42: тыс. руб. | BX42: Фактические расходы по статье учтены в составе ОХР и ОПР.
A43: 1.2 | K43: Неподконтрольные расходы, включенные в НВВ, всего | BI43: тыс. руб. | BT43: =BT44+BT45+BT46+BT47+BT48+BT49+BT50+BT51+BT52+BT53+BT56 -> 17224.088 | BU43: =BU44+BU45+BU46+BU47+BU48+BU49+BU50+BU51+BU52+BU53+BU56 -> 17894.012 | BV43: =BV46+BV47+BV49+BV52+BV53 -> 17439.69 | BW43: =BW46+BW47+BW49+BW52 -> 19940.859
...

Sheet 1.6. (приказ 585) (филиал)
EY1: Таблица 1.6
A3: Расшифровка расходов субъекта естественных монополий, оказывающего услуги по передаче электроэнергии (мощности) по электрическим сетям, принадлежащим на праве собственности
A4: или ином законном основании территориальным сетевым организациям
A6: Заполняется: | AN6: Субъектами естественных монополий, оказывающими услуги по передаче электроэнергии (мощности) по электрическим сетям, принадлежащим на праве собственности
AN7: или ином законном основании территориальным сетевым организациям
A8: Период заполнения: | AN8: Годовая
A9: Требования к заполнению: | AN9: Заполняется отдельно по каждому субъекту РФ
A11: Организация: | DN11: филиал АО "ТМК Энергосетевая компания" в г.Первоуральске
A12: Идентификационный номер налогоплательщика (ИНН): | DN12: 7449045730
A13: Местонахождение (адрес): | DN13: г. Первоуральск, ул. Торговая, д.1
A14: Субъект РФ: | DN14: Свердловская область
A15: Отчетный период: | DN15: 2022 год
A18: Показатель | AN18: Единица измерения | AV18: Код показа-теля | BB18: За отчетный период, всего по предприятию | BK18: из графы 4: по Субъекту РФ, указанному в заголовке формы | BT18: из графы 5 по видам деятельности * | CV18: За аналогичный период пре-дыдущего года, всего по предприятию | DE18: из графы 10: по Субъекту РФ, указанному в заголовке формы | DN18: из графы 10 по видам деятельности * | EP18: Примечания: принцип разделения показателей по субъектам РФ и по видам деятельности согласно ОРД предприятия
BT19: Передача по расп-редели-тельным сетям | CA19: Техноло-гическое присоеди-нение | CH19: Передача и техно-логичес-кое присоеди-нение | CO19: Прочие виды деятель-ности | DN19: Передача по расп-редели-тельным сетям | DU19: Техноло-гическое присоеди-нение | EB19: Передача и техно-логичес-кое присоеди-нение | EI19: Прочие виды деятель-ности
A20: 1 | AN20: 2 | AV20: 3 | BB20: 4 | BK20: 5 | BT20: 6 | CA20: 7 | CH20: 8 (сумма гр. 6 и 7) | CO20: 9 | CV20: 10 | DE20: 11 | DN20: 12 | DU20: 13 | EB20: 14 (сумма гр. 12 и 13) | EI20: 15 | EP20: 16
A21: Расходы, учитываемые в целях налогообложения прибыли, всего, в том числе (сумма строк 110, 120, 130, 140, 150, 160, 170, 180, 190) | AN21: тыс. руб. | AV21: 100 | BB21: ='1.6. (приказ 585)'!BB21:BJ21 -> 763332 | BT21: ='Прил.2 (приказ 1831-э) (филиал)'!BW18+'Прил.2 (приказ 1831-э) (филиал)'!BW60 -> 66522.877 | CA21: =491603.57/1000 -> 491.60357 | CH21: =BT21+CA21 -> 67014.481 | CO21: =BB21-CH21 -> 696317.52 | CV21: 665423 | DN21: 59872.148 | DU21: 641.77791 | EB21: =DN21+DU21 -> 60513.926 | EI21: =CV21-EB21 -> 604909.07
A22: Материальные расходы (сумма строк 111, 112, 113) | AN22: тыс. руб. | AV22: 110 | BB22: ='1.6. (приказ 585)'!BB22:BJ22 -> 161178 | BT22: =BT23+BT24+BT29 -> 11891.191 | CH22: =BT22+CA22 -> 11891.191 | CO22: =BB22-CH22 -> 149286.81 | CV22: =CV23+CV24+CV29 -> 132678.98 | DN22: 12948.807 | DU22: 321.88473 | EB22: =DN22+DU22 -> 13270.692 | EI22: =CV22-EB22 -> 119408.29
A23: Расходы на приобретение сырья и материалов | AN23: тыс. руб. | AV23: 111 | BB23: ='1.6. (приказ 585)'!BB23:BJ23 -> 121034 | BT23: ='Прил.2 (приказ 1831-э) (филиал)'!BW21 -> 2789.9929 | CH23: =BT23+CA23 -> 2789.9929 | CO23: =BB23-CH23 -> 118244.01 | CV23: =89486982.57/1000 -> 89486.983 | DN23: 3968.4515 | DU23: 321.88473 | EB23: =DN23+DU23 -> 4290.3363 | EI23: =CV23-EB23 -> 85196.646
A24: Расходы на приобретение электрической энергии на компенсацию технологического расхода (потерь) электрической энергии в сетях, в том числе по уровням напряжения: | AN24: тыс. руб. | AV24: 112 | BB24: ='1.6. (приказ 585)'!BB24:BJ24 -> 14366 | BT24: ='Прил.2 (приказ 1831-э) (филиал)'!BW60 -> 9101.1977 | CH24: =BT24+CA24 -> 9101.1977 | CO24: =BB24-CH24 -> 5264.8023 | CV24: 13276 | DN24: 8980.3556 | EB24: =DN24+DU24 -> 8980.3556 | EI24: =CV24-EB24 -> 4295.6444
A25: ВН | AN25: тыс. руб. | BB25: =BB24 -> 14366 | BT25: =BT24 -> 9101.1977 | CH25: =BT25+CA25 -> 9101.1977 | CO25: =BB25-CH25 -> 5264.8023 | CV25: =CV24 -> 13276 | DN25: 8980.3556 | EB25: =DN25+DU25 -> 8980.3556 | EI25: =CV25-EB25 -> 4295.6444
A26: СН1 | AN26: тыс. руб.
A27: СН2 | AN27: тыс. руб.
A28: НН | AN28: тыс. руб.
A29: Расходы на приобретение электрической энергии на хозяйственные нужды | AN29: тыс. руб. | AV29: 113 | BB29: ='1.6. (приказ 585)'!BB29:BJ29 -> 25778 | CO29: =BB29-CH29 -> 25778 | CV29: 29916 | EI29: =CV29-EB29 -> 29916
A30: Расходы на оплату услуг сторонних организаций (сумма строк 121, 122, 123, 124) | AN30: тыс. руб. | AV30: 120 | BB30: ='1.6. (приказ 585)'!BB30:BJ30 -> 32623.68 | CO30: =BB30-CH30 -> 32623.68 | CV30: =CV31+CV32+CV33+CV34 -> 20170.54 | EB30: =DN30+DU30 -> 0 | EI30: =CV30-EB30 -> 20170.54
A31: Расходы на страхование | AN31: тыс. руб. | AV31: 121 | BB31: ='1.6. (приказ 585)'!BB31:BJ31 -> 64.68 | CO31: =BB31-CH31 -> 64.68 | CV31: =98351.79/1000 -> 98.35179
A32: Оплата услуг ОАО "ФСК ЕЭС" | AN32: тыс. руб. | AV32: 122
A33: Оплата услуг по передаче электрической энергии, оказываемых другими сетевыми организациями | AN33: тыс. руб. | AV33: 123
A34: Расходы на ремонт основных средств, выполняемые подрядным способом | AN34: тыс. руб. | AV34: 124 | BB34: ='1.6. (приказ 585)'!BB34:BJ34 -> 32559 | BT34: ='Прил.2 (приказ 1831-э) (филиал)'!BW23 -> 4661.5041 | CO34: =BB34-CH34 -> 32559 | CV34: =(13025316.72+237786.7+6809084.97)/1000 -> 20072.188 | EB34: =DN34+DU34 -> 0 | EI34: =CV34-EB34 -> 20072.188
A35: Расходы на оплату труда | AN35: тыс. руб. | AV35: 130 | BB35: ='1.6. (приказ 585)'!BB35:BJ35 -> 316030 | BT35: ='Прил.2 (приказ 1831-э) (филиал)'!BW25 -> 22207.2 | CA35: =271259.22/1000 -> 271.25922 | CH35: =BT35+CA35 -> 22478.46 | CO35: =BB35-CH35 -> 293551.54 | CV35: 255116.2 | DN35: 18498.539 | DU35: 152.39285 | EB35: =DN35+DU35 -> 18650.932 | EI35: =CV35-EB35 -> 236465.27
A36: Управленческий персонал | AN36: тыс. руб. | BB36: ='1.6. (приказ 585)'!BB36:BJ36 -> 32416 | BT36: =2132288.14/1000 -> 2132.2881 | BU36: 1059327.7 | BV36: 1059327.7 | BW36: 1059327.7 | BX36: 1059327.7 | BY36: 1059327.7 | BZ36: 1059327.7 | CA36: =24915.71/1000 -> 24.91571 | CH36: =BT36+CA36 -> 2157.2039 | CO36: =BB36-CH36 -> 30258.796 | CV36: =25054697.33/1000 -> 25054.697 | DN36: 1801.4786 | DO36: 1059327.7 | DP36: 1059327.7 | DQ36: 1059327.7 | DR36: 1059327.7 | DS36: 1059327.7 | DT36: 1059327.7 | DU36: 14.88326 | EB36: =DN36+DU36 -> 1816.3619 | EI36: =CV36-EB36 -> 23238.335
A37: Специалисты и технические | AN37: тыс. руб. | BB37: ='1.6. (приказ 585)'!BB37:BJ37 -> 43957 | BT37: =4421320.17/1000 -> 4421.3202 | BU37: 1020701.7 | BV37: 1020701.7 | BW37: 1020701.7 | BX37: 1020701.7 | BY37: 1020701.7 | BZ37: 1020701.7 | CA37: =59871.08/1000 -> 59.87108 | CH37: =BT37+CA37 -> 4481.1912 | CO37: =BB37-CH37 -> 39475.809 | CV37: =42999552.44/1000 -> 42999.552 | DN37: 3409.327 | DO37: 1020701.7 | DP37: 1020701.7 | DQ37: 1020701.7 | DR37: 1020701.7 | DS37: 1020701.7 | DT37: 1020701.7 | DU37: 27.82013 | EB37: =DN37+DU37 -> 3437.1471 | EI37: =CV37-EB37 -> 39562.405
A38: Основные производственные рабочие | AN38: тыс. руб. | BB38: ='1.6. (приказ 585)'!BB38:BJ38 -> 239657 | BT38: =BT35-BT36-BT37 -> 15653.592 | CA38: =CA35-CA36-CA37 -> 186.47243 | CH38: =BT38+CA38 -> 15840.065 | CO38: =BB38-CH38 -> 223816.94 | CV38: =187061949.57/1000 -> 187061.95 | DN38: 13287.734 | DU38: 109.68946 | EB38: =DN38+DU38 -> 13397.423 | EI38: =CV38-EB38 -> 173664.53
A39: Справочно: среднесписочная численность промышленно-производственного персонала организации ** | AN39: чел. | BB39: ='1.6. (приказ 585)'!BB39:BJ39 -> 441 | BT39: 43 | CA39: 0.5 | CH39: =BT39+CA39 -> 43.5 | CO39: =BB39-CH39 -> 397.5 | CV39: =CV40+CV41+CV42 -> 439 | DN39: 39 | DU39: 0.25 | EB39: =DN39 -> 39 | EI39: =CV39-EB39 -> 400
A40: Управленческий персонал | AN40: чел. | BB40: ='1.6. (приказ 585)'!BB40:BJ40 -> 24 | BT40: 2 | CH40: =BT40 -> 2 | CO40: =BB40-CH40 -> 22 | CV40: 24 | DN40: 2 | EB40: =DN40 -> 2 | EI40: =CV40-EB40 -> 22
A41: Специалисты и технические | AN41: чел. | BB41: ='1.6. (приказ 585)'!BB41:BJ41 -> 56 | BT41: 6 | CH41: 6.5 | CO41: =BB41-CH41 -> 49.5 | CV41: 56 | DN41: 6 | EB41: =DN41 -> 6 | EI41: =CV41-EB41 -> 50
A42: Основные производственные рабочие | AN42: чел. | BB42: ='1.6. (приказ 585)'!BB42:BJ42 -> 361 | BT42: =BT39-BT41-BT40 -> 35 | CH42: =BT42 -> 35 | CO42: =BB42-CH42 -> 326 | CV42: 359 | DN42: 31 | EB42: =DN42 -> 31 | EI42: =CV42-EB42 -> 328
A43: Расходы на выплату страховых взносов в Пенсионный фонд Российской Федерации, Фонд социального страхования Российской Федерации, Федеральный фонд обязательного медицинского страхования и территориальные фонды обязательного медицинского страхования | AN43: тыс. руб. | AV43: 140 | BB43: ='1.6. (приказ 585)'!BB43:BJ43 -> 95097 | BT43: ='Прил.2 (приказ 1831-э) (филиал)'!BW47 -> 6642.315 | CA43: =79697.01/1000 -> 79.69701 | CH43: =BT43+CA43 -> 6722.012 | CO43: =BB43-CH43 -> 88374.988 | CV43: 76945.28 | DN43: 5573.4301 | DU43: 45.76186 | EB43: =DN43+DU43 -> 5619.192 | EI43: =CV43-EB43 -> 71326.088
A44: Амортизация основных средств | AN44: тыс. руб. | AV44: 150 | BB44: ='1.6. (приказ 585)'!BB44:BJ44 -> 11901 | BT44: ='Прил.2 (приказ 1831-э) (филиал)'!BW49 -> 678.29803 | CH44: =BT44+CA44 -> 678.29803 | CO44: =BB44-CH44 -> 11222.702 | CV44: 9678 | DN44: 367.5019 | EB44: =DN44+DU44 -> 367.5019 | EI44: =CV44-EB44 -> 9310.4981
A45: Аренда и лизинговые платежи (сумма строк 161, 162) | AN45: тыс. руб. | AV45: 160 | BB45: ='1.6. (приказ 585)'!BB45:BJ45 -> 36615 | BT45: ='Прил.2 (приказ 1831-э) (филиал)'!BW46 -> 12602.177 | CH45: =BT45+CA45 -> 12602.177 | CO45: =BB45-CH45 -> 24012.823 | CV45: 60941 | DN45: 13523.393 | EB45: =DN45+DU45 -> 13523.393 | EI45: =CV45-EB45 -> 47417.607
...

Sheet Прил.4 (приказ 1831-э) (филиал)
DA1: Приложение 4
DA2: к приказу Федеральной службы по тарифам
DA3: от 24 октября 2014 г. № 1831-э
A5: Форма раскрытия информации о движении активов, включающий балансовую
A6: стоимость активов на начало года, балансовую стоимость активов на конец года,
A7: а также информацию о выбытии активов в течение года, о вводе активов в течение
A8: года, в том числе за счет переоценки, модернизации, реконструкции, строительства
A9: и приобретения нового оборудования
C11: Наименование
C12: организации | Q12: филиал АО "ТМК ЭСК" в г. Первоуральске
C13: ИНН: | J13: 7449045730
C14: КПП: | J14: 744901001
A16: № п/п | H16: Показатель | BD16: Ед. изм. | BO16: 2022 год | CI16: Примечание *
BO17: план | BY17: факт
A18: 1 | I18: Остаточная балансовая стоимость активов на начало года долгосрочного периода регулирования | BD18: тыс. руб. | BY18: =6550591.19/1000 -> 6550.5912
A19: 2 | I19: Ввод активов (основных средств), всего | BD19: тыс. руб.
BD20: МВА
BD21: км
A22: 2.1 | I22: Увеличение стоимости активов (основных средств) за счет переоценки | BD22: тыс. руб.
A23: 2.2 | I23: Ввод активов (основных средств) за год | BD23: тыс. руб.
BD24: МВА
BD25: км
A26: 2.2.1 | I26: в том числе модернизация и реконструкция | BD26: тыс. руб.
BD27: МВА
BD28: км
A29: 2.2.2 | I29: в том числе новое строительство | BD29: тыс. руб.
BD30: МВА
BD31: км
A32: 2.2.3 | I32: Прочее, в том числе приобретение нового оборудования | BD32: тыс. руб.
BD33: МВА
BD34: км
A35: 3 | I35: Выбытие активов (основных средств) | BD35: тыс. руб.
BD36: МВА
BD37: км
A38: 4 | I38: Остаточная балансовая стоимость активов на конец года долгосрочного периода регулирования | BD38: тыс. руб. | BY38: =BY18-'Прил.2 (приказ 1831-э) (филиал)'!BW49 -> 5872.2932
A40: Примечание:
A42: _____*_При наличии отклонений фактических значений показателей от плановых значений более чем на 15 процентов в столбце <Примечание> указываются причины их возникновения.
